BEGIN:VCALENDAR
VERSION:2.0
PRODID:-//Zena Democratic School - ECPv6.15.3//NONSGML v1.0//EN
CALSCALE:GREGORIAN
METHOD:PUBLISH
X-WR-CALNAME:Zena Democratic School
X-ORIGINAL-URL:https://zenademocraticschool.org
X-WR-CALDESC:Events for Zena Democratic School
REFRESH-INTERVAL;VALUE=DURATION:PT1H
X-Robots-Tag:noindex
X-PUBLISHED-TTL:PT1H
BEGIN:VTIMEZONE
TZID:America/New_York
BEGIN:DAYLIGHT
TZOFFSETFROM:-0500
TZOFFSETTO:-0400
TZNAME:EDT
DTSTART:20260308T070000
END:DAYLIGHT
BEGIN:STANDARD
TZOFFSETFROM:-0400
TZOFFSETTO:-0500
TZNAME:EST
DTSTART:20261101T060000
END:STANDARD
END:VTIMEZONE
BEGIN:VEVENT
DTSTART;TZID=America/New_York:20260606T160000
DTEND;TZID=America/New_York:20260606T220000
DTSTAMP:20260423T102440
CREATED:20250617T145552Z
LAST-MODIFIED:20250617T145552Z
UID:4330-1780761600-1780783200@zenademocraticschool.org
SUMMARY:Graduation Picnic
DESCRIPTION:Join us in celebrating the class of 2026 and another year of self-directed education!
URL:https://zenademocraticschool.org/event/graduation-picnic-3/
LOCATION:Zena Democratic School\, 84 Zena Road\, Kingston\, NY
END:VEVENT
END:VCALENDAR