BEGIN:VCALENDAR
VERSION:2.0
PRODID:-//Zena Democratic School - ECPv6.15.3//NONSGML v1.0//EN
CALSCALE:GREGORIAN
METHOD:PUBLISH
X-WR-CALNAME:Zena Democratic School
X-ORIGINAL-URL:https://zenademocraticschool.org
X-WR-CALDESC:Events for Zena Democratic School
REFRESH-INTERVAL;VALUE=DURATION:PT1H
X-Robots-Tag:noindex
X-PUBLISHED-TTL:PT1H
BEGIN:VTIMEZONE
TZID:America/New_York
BEGIN:DAYLIGHT
TZOFFSETFROM:-0500
TZOFFSETTO:-0400
TZNAME:EDT
DTSTART:20250309T070000
END:DAYLIGHT
BEGIN:STANDARD
TZOFFSETFROM:-0400
TZOFFSETTO:-0500
TZNAME:EST
DTSTART:20251102T060000
END:STANDARD
END:VTIMEZONE
BEGIN:VTIMEZONE
TZID:America/Halifax
BEGIN:DAYLIGHT
TZOFFSETFROM:-0400
TZOFFSETTO:-0300
TZNAME:ADT
DTSTART:20230312T060000
END:DAYLIGHT
BEGIN:STANDARD
TZOFFSETFROM:-0300
TZOFFSETTO:-0400
TZNAME:AST
DTSTART:20231105T050000
END:STANDARD
BEGIN:DAYLIGHT
TZOFFSETFROM:-0400
TZOFFSETTO:-0300
TZNAME:ADT
DTSTART:20240310T060000
END:DAYLIGHT
BEGIN:STANDARD
TZOFFSETFROM:-0300
TZOFFSETTO:-0400
TZNAME:AST
DTSTART:20241103T050000
END:STANDARD
BEGIN:DAYLIGHT
TZOFFSETFROM:-0400
TZOFFSETTO:-0300
TZNAME:ADT
DTSTART:20250309T060000
END:DAYLIGHT
BEGIN:STANDARD
TZOFFSETFROM:-0300
TZOFFSETTO:-0400
TZNAME:AST
DTSTART:20251102T050000
END:STANDARD
END:VTIMEZONE
BEGIN:VTIMEZONE
TZID:UTC
BEGIN:STANDARD
TZOFFSETFROM:+0000
TZOFFSETTO:+0000
TZNAME:UTC
DTSTART:20200101T000000
END:STANDARD
END:VTIMEZONE
BEGIN:VEVENT
DTSTART;VALUE=DATE:20251013
DTEND;VALUE=DATE:20251014
DTSTAMP:20260423T174226
CREATED:20250617T135802Z
LAST-MODIFIED:20250617T135920Z
UID:4294-1760313600-1760399999@zenademocraticschool.org
SUMMARY:No School - Indigenous People's Day
DESCRIPTION:School Closed in recognition of Indigenous People’s Day
URL:https://zenademocraticschool.org/event/no-school-indigenous-peoples-day-2/
CATEGORIES:Academic Calendar
END:VEVENT
BEGIN:VEVENT
DTSTART;VALUE=DATE:20250613
DTEND;VALUE=DATE:20250614
DTSTAMP:20260423T174226
CREATED:20240622T031909Z
LAST-MODIFIED:20240622T031909Z
UID:4072-1749772800-1749859199@zenademocraticschool.org
SUMMARY:Last Day of School
DESCRIPTION:Last Day of School!
URL:https://zenademocraticschool.org/event/last-day-of-school-6/
LOCATION:Zena Democratic School\, 84 Zena Road\, Kingston\, NY
CATEGORIES:Academic Calendar
END:VEVENT
BEGIN:VEVENT
DTSTART;TZID=America/New_York:20250203T190000
DTEND;TZID=America/New_York:20250203T220000
DTSTAMP:20260423T174226
CREATED:20240622T025710Z
LAST-MODIFIED:20240622T025710Z
UID:4062-1738609200-1738620000@zenademocraticschool.org
SUMMARY:Assembly Meeting
DESCRIPTION:The Annual Meeting of the Assembly (parents\, students\, staff\, and elected public members)
URL:https://zenademocraticschool.org/event/assembly-meeting-2/
LOCATION:Zena Democratic School\, 84 Zena Road\, Kingston\, NY
CATEGORIES:Academic Calendar
END:VEVENT
BEGIN:VEVENT
DTSTART;VALUE=DATE:20240614
DTEND;VALUE=DATE:20240615
DTSTAMP:20260423T174226
CREATED:20230728T025806Z
LAST-MODIFIED:20230728T025806Z
UID:3681-1718323200-1718409599@zenademocraticschool.org
SUMMARY:Last Day of School
DESCRIPTION:That’s a wrap!
URL:https://zenademocraticschool.org/event/last-day-of-school-5/
CATEGORIES:Academic Calendar
END:VEVENT
BEGIN:VEVENT
DTSTART;VALUE=DATE:20240501
DTEND;VALUE=DATE:20240502
DTSTAMP:20260423T174226
CREATED:20230728T025208Z
LAST-MODIFIED:20230728T025208Z
UID:3671-1714521600-1714607999@zenademocraticschool.org
SUMMARY:Staff Day - School Closed
DESCRIPTION:School is closed for students
URL:https://zenademocraticschool.org/event/staff-day-school-closed/
CATEGORIES:Academic Calendar
END:VEVENT
BEGIN:VEVENT
DTSTART;TZID=America/Halifax:20240205T190000
DTEND;TZID=America/Halifax:20240205T210000
DTSTAMP:20260423T174226
CREATED:20230728T025514Z
LAST-MODIFIED:20230728T025514Z
UID:3675-1707159600-1707166800@zenademocraticschool.org
SUMMARY:Annual Assembly Meeting
DESCRIPTION:Meeting of the ZDS Assembly (parents\, students\, and staff) to make democratic decisions about the school.
URL:https://zenademocraticschool.org/event/annual-assembly-meeting-2/
LOCATION:Hudson Valley Sudbury School\, 84 Zena Road\, Kingston\, NY
CATEGORIES:Academic Calendar
END:VEVENT
BEGIN:VEVENT
DTSTART;VALUE=DATE:20230925
DTEND;VALUE=DATE:20230926
DTSTAMP:20260423T174226
CREATED:20230728T022752Z
LAST-MODIFIED:20230731T040514Z
UID:3643-1695600000-1695686399@zenademocraticschool.org
SUMMARY:Yom Kippur - School Closed
DESCRIPTION:Yom Kippur – School Closed
URL:https://zenademocraticschool.org/event/yom-kippur-school-closed/
CATEGORIES:Academic Calendar
END:VEVENT
BEGIN:VEVENT
DTSTART;TZID=America/Halifax:20230911T083000
DTEND;TZID=America/Halifax:20230911T160000
DTSTAMP:20260423T174226
CREATED:20230728T022115Z
LAST-MODIFIED:20230728T022115Z
UID:3637-1694421000-1694448000@zenademocraticschool.org
SUMMARY:First Day of School
DESCRIPTION:They Very First Day of Zena Democratic School!!!
URL:https://zenademocraticschool.org/event/first-day-of-school-4/
LOCATION:Hudson Valley Sudbury School\, 84 Zena Road\, Kingston\, NY
CATEGORIES:Academic Calendar
END:VEVENT
BEGIN:VEVENT
DTSTART;VALUE=DATE:20210611
DTEND;VALUE=DATE:20210612
DTSTAMP:20260423T174226
CREATED:20200814T033522Z
LAST-MODIFIED:20200814T033522Z
UID:1990-1623369600-1623455999@zenademocraticschool.org
SUMMARY:Last Day of School
DESCRIPTION:Last Day of School! Enjoy Summer Break!!
URL:https://zenademocraticschool.org/event/last-day-of-school-2/
CATEGORIES:Academic Calendar
END:VEVENT
BEGIN:VEVENT
DTSTART;VALUE=DATE:20200909
DTEND;VALUE=DATE:20200910
DTSTAMP:20260423T174226
CREATED:20191119T031940Z
LAST-MODIFIED:20200814T032131Z
UID:382-1599609600-1599695999@zenademocraticschool.org
SUMMARY:First Day of School
DESCRIPTION:Hooray! Time for a great new school year!
URL:https://zenademocraticschool.org/event/first-day-of-school/
CATEGORIES:Academic Calendar
ATTACH;FMTTYPE=image/jpeg:https://zenademocraticschool.org/wp-content/uploads/2019/11/first-day-of-school.jpg
END:VEVENT
BEGIN:VEVENT
DTSTART;VALUE=DATE:20200612
DTEND;VALUE=DATE:20200613
DTSTAMP:20260423T174226
CREATED:20200214T003159Z
LAST-MODIFIED:20200214T003159Z
UID:1082-1591920000-1592006399@zenademocraticschool.org
SUMMARY:Last Day of School
DESCRIPTION:
URL:https://zenademocraticschool.org/event/last-day-of-school/
CATEGORIES:Academic Calendar
ATTACH;FMTTYPE=image/jpeg:https://zenademocraticschool.org/wp-content/uploads/2020/02/last-day-school.jpg
END:VEVENT
BEGIN:VEVENT
DTSTART;TZID=UTC:20200606T140000
DTEND;TZID=UTC:20200606T190000
DTSTAMP:20260423T174226
CREATED:20200214T003257Z
LAST-MODIFIED:20200214T003257Z
UID:1085-1591452000-1591470000@zenademocraticschool.org
SUMMARY:End of Year BBQ & Graduation
DESCRIPTION:
URL:https://zenademocraticschool.org/event/end-of-year-bbq-graduation/
CATEGORIES:Academic Calendar
ATTACH;FMTTYPE=image/jpeg:https://zenademocraticschool.org/wp-content/uploads/2020/02/bbq.jpg
END:VEVENT
BEGIN:VEVENT
DTSTART;TZID=UTC:20200605T103000
DTEND;TZID=UTC:20200605T123000
DTSTAMP:20260423T174226
CREATED:20200214T002811Z
LAST-MODIFIED:20200214T002811Z
UID:1080-1591353000-1591360200@zenademocraticschool.org
SUMMARY:Play Day
DESCRIPTION:
URL:https://zenademocraticschool.org/event/play-day-19/
CATEGORIES:Academic Calendar
ATTACH;FMTTYPE=image/jpeg:https://zenademocraticschool.org/wp-content/uploads/2020/02/play-day.jpg
END:VEVENT
BEGIN:VEVENT
DTSTART;TZID=UTC:20200529T103000
DTEND;TZID=UTC:20200529T123000
DTSTAMP:20260423T174226
CREATED:20200214T002543Z
LAST-MODIFIED:20200214T002607Z
UID:1078-1590748200-1590755400@zenademocraticschool.org
SUMMARY:Play Day
DESCRIPTION:
URL:https://zenademocraticschool.org/event/play-day-18/
CATEGORIES:Academic Calendar
ATTACH;FMTTYPE=image/jpeg:https://zenademocraticschool.org/wp-content/uploads/2020/02/play-day.jpg
END:VEVENT
BEGIN:VEVENT
DTSTART;TZID=UTC:20200522T103000
DTEND;TZID=UTC:20200522T123000
DTSTAMP:20260423T174226
CREATED:20200214T002514Z
LAST-MODIFIED:20200214T002514Z
UID:1076-1590143400-1590150600@zenademocraticschool.org
SUMMARY:Play Day
DESCRIPTION:
URL:https://zenademocraticschool.org/event/play-day-17/
CATEGORIES:Academic Calendar
ATTACH;FMTTYPE=image/jpeg:https://zenademocraticschool.org/wp-content/uploads/2020/02/play-day.jpg
END:VEVENT
BEGIN:VEVENT
DTSTART;TZID=UTC:20200515T103000
DTEND;TZID=UTC:20200515T123000
DTSTAMP:20260423T174226
CREATED:20200214T002440Z
LAST-MODIFIED:20200214T002440Z
UID:1074-1589538600-1589545800@zenademocraticschool.org
SUMMARY:Play Day
DESCRIPTION:
URL:https://zenademocraticschool.org/event/play-day-16/
CATEGORIES:Academic Calendar
ATTACH;FMTTYPE=image/jpeg:https://zenademocraticschool.org/wp-content/uploads/2020/02/play-day.jpg
END:VEVENT
BEGIN:VEVENT
DTSTART;TZID=UTC:20200508T103000
DTEND;TZID=UTC:20200508T123000
DTSTAMP:20260423T174226
CREATED:20200214T002409Z
LAST-MODIFIED:20200214T002409Z
UID:1072-1588933800-1588941000@zenademocraticschool.org
SUMMARY:Play Day
DESCRIPTION:
URL:https://zenademocraticschool.org/event/play-day-15/
CATEGORIES:Academic Calendar
ATTACH;FMTTYPE=image/jpeg:https://zenademocraticschool.org/wp-content/uploads/2020/02/play-day.jpg
END:VEVENT
BEGIN:VEVENT
DTSTART;VALUE=DATE:20200502
DTEND;VALUE=DATE:20200503
DTSTAMP:20260423T174226
CREATED:20200214T002056Z
LAST-MODIFIED:20200214T003629Z
UID:1068-1588377600-1588463999@zenademocraticschool.org
SUMMARY:Open House
DESCRIPTION:HVSS Open Houses are the best way to learn more about the school.  Students\, parents\, alumni\, and staff members will be in attendance to give tours of the campus\, discuss the school\, and answer questions.  Panel discussion at 2:00. \n2019-2020 Open House dates are: March 7 and May 2\, 2020. \nThere is no need to RSVP.
URL:https://zenademocraticschool.org/event/open-house-5/
CATEGORIES:Academic Calendar
ATTACH;FMTTYPE=image/jpeg:https://zenademocraticschool.org/wp-content/uploads/2019/11/first-day-of-school.jpg
END:VEVENT
BEGIN:VEVENT
DTSTART;TZID=UTC:20200501T103000
DTEND;TZID=UTC:20200501T123000
DTSTAMP:20260423T174226
CREATED:20200214T002336Z
LAST-MODIFIED:20200214T002336Z
UID:1070-1588329000-1588336200@zenademocraticschool.org
SUMMARY:Play Day
DESCRIPTION:
URL:https://zenademocraticschool.org/event/play-day-14/
CATEGORIES:Academic Calendar
ATTACH;FMTTYPE=image/jpeg:https://zenademocraticschool.org/wp-content/uploads/2020/02/play-day.jpg
END:VEVENT
BEGIN:VEVENT
DTSTART;TZID=UTC:20200424T103000
DTEND;TZID=UTC:20200424T103000
DTSTAMP:20260423T174226
CREATED:20200214T001235Z
LAST-MODIFIED:20200214T001235Z
UID:1057-1587724200-1587724200@zenademocraticschool.org
SUMMARY:Play Day
DESCRIPTION:
URL:https://zenademocraticschool.org/event/play-day-13/
CATEGORIES:Academic Calendar
ATTACH;FMTTYPE=image/jpeg:https://zenademocraticschool.org/wp-content/uploads/2020/02/play-day.jpg
END:VEVENT
BEGIN:VEVENT
DTSTART;TZID=UTC:20200418T110000
DTEND;TZID=UTC:20200418T210000
DTSTAMP:20260423T174226
CREATED:20200220T101410Z
LAST-MODIFIED:20200220T101410Z
UID:1238-1587207600-1587243600@zenademocraticschool.org
SUMMARY:Wayfinder Experience Living Legends
DESCRIPTION:
URL:https://zenademocraticschool.org/event/wayfinder-experience-living-legends-2/
CATEGORIES:Academic Calendar
ATTACH;FMTTYPE=image/png:https://zenademocraticschool.org/wp-content/uploads/2020/02/wayfinder-logo.png
END:VEVENT
BEGIN:VEVENT
DTSTART;TZID=UTC:20200417T103000
DTEND;TZID=UTC:20200417T123000
DTSTAMP:20260423T174226
CREATED:20200214T001207Z
LAST-MODIFIED:20200214T001207Z
UID:1055-1587119400-1587126600@zenademocraticschool.org
SUMMARY:Play Day
DESCRIPTION:
URL:https://zenademocraticschool.org/event/play-day-12/
CATEGORIES:Academic Calendar
ATTACH;FMTTYPE=image/jpeg:https://zenademocraticschool.org/wp-content/uploads/2020/02/play-day.jpg
END:VEVENT
BEGIN:VEVENT
DTSTART;TZID=UTC:20200403T103000
DTEND;TZID=UTC:20200403T123000
DTSTAMP:20260423T174226
CREATED:20200214T001132Z
LAST-MODIFIED:20200214T001132Z
UID:1053-1585909800-1585917000@zenademocraticschool.org
SUMMARY:Play Day
DESCRIPTION:
URL:https://zenademocraticschool.org/event/play-day-11/
CATEGORIES:Academic Calendar
ATTACH;FMTTYPE=image/jpeg:https://zenademocraticschool.org/wp-content/uploads/2020/02/play-day.jpg
END:VEVENT
BEGIN:VEVENT
DTSTART;TZID=UTC:20200329T150000
DTEND;TZID=UTC:20200329T170000
DTSTAMP:20260423T174226
CREATED:20200220T101239Z
LAST-MODIFIED:20200220T101239Z
UID:1234-1585494000-1585501200@zenademocraticschool.org
SUMMARY:HVSS Theater Coop Presents Eurydice at ASK
DESCRIPTION:
URL:https://zenademocraticschool.org/event/hvss-theater-coop-presents-eurydice-at-ask-2/
CATEGORIES:Academic Calendar
ATTACH;FMTTYPE=image/jpeg:https://zenademocraticschool.org/wp-content/uploads/2020/02/eurydice.jpg
END:VEVENT
BEGIN:VEVENT
DTSTART;TZID=UTC:20200328T190000
DTEND;TZID=UTC:20200328T210000
DTSTAMP:20260423T174226
CREATED:20200220T101339Z
LAST-MODIFIED:20200220T101339Z
UID:1236-1585422000-1585429200@zenademocraticschool.org
SUMMARY:HVSS Theater Coop Presents Eurydice at ASK
DESCRIPTION:
URL:https://zenademocraticschool.org/event/hvss-theater-coop-presents-eurydice-at-ask-3/
CATEGORIES:Academic Calendar
ATTACH;FMTTYPE=image/jpeg:https://zenademocraticschool.org/wp-content/uploads/2020/02/eurydice.jpg
END:VEVENT
BEGIN:VEVENT
DTSTART;TZID=UTC:20200327T190000
DTEND;TZID=UTC:20200327T210000
DTSTAMP:20260423T174226
CREATED:20200220T101152Z
LAST-MODIFIED:20200220T101554Z
UID:1232-1585335600-1585342800@zenademocraticschool.org
SUMMARY:HVSS Theater Coop Presents Eurydice at ASK
DESCRIPTION:
URL:https://zenademocraticschool.org/event/hvss-theater-coop-presents-eurydice-at-ask/
CATEGORIES:Academic Calendar
ATTACH;FMTTYPE=image/jpeg:https://zenademocraticschool.org/wp-content/uploads/2020/02/eurydice.jpg
END:VEVENT
BEGIN:VEVENT
DTSTART;TZID=UTC:20200327T103000
DTEND;TZID=UTC:20200327T123000
DTSTAMP:20260423T174226
CREATED:20200214T001042Z
LAST-MODIFIED:20200214T001042Z
UID:1051-1585305000-1585312200@zenademocraticschool.org
SUMMARY:Play Day
DESCRIPTION:
URL:https://zenademocraticschool.org/event/play-day-10/
CATEGORIES:Academic Calendar
ATTACH;FMTTYPE=image/jpeg:https://zenademocraticschool.org/wp-content/uploads/2020/02/play-day.jpg
END:VEVENT
BEGIN:VEVENT
DTSTART;TZID=UTC:20200321T100000
DTEND;TZID=UTC:20200321T230000
DTSTAMP:20260423T174226
CREATED:20200220T101111Z
LAST-MODIFIED:20200220T101111Z
UID:1230-1584784800-1584831600@zenademocraticschool.org
SUMMARY:Wayfinder Experience Frontier Adventures 
DESCRIPTION:
URL:https://zenademocraticschool.org/event/wayfinder-experience-frontier-adventures/
CATEGORIES:Academic Calendar
ATTACH;FMTTYPE=image/png:https://zenademocraticschool.org/wp-content/uploads/2020/02/wayfinder-logo.png
END:VEVENT
BEGIN:VEVENT
DTSTART;TZID=UTC:20200320T103000
DTEND;TZID=UTC:20200320T123000
DTSTAMP:20260423T174226
CREATED:20200214T001008Z
LAST-MODIFIED:20200214T001008Z
UID:1049-1584700200-1584707400@zenademocraticschool.org
SUMMARY:Play Day
DESCRIPTION:
URL:https://zenademocraticschool.org/event/play-day-9/
CATEGORIES:Academic Calendar
ATTACH;FMTTYPE=image/jpeg:https://zenademocraticschool.org/wp-content/uploads/2020/02/play-day.jpg
END:VEVENT
BEGIN:VEVENT
DTSTART;TZID=UTC:20200313T103000
DTEND;TZID=UTC:20200313T123000
DTSTAMP:20260423T174226
CREATED:20200214T000936Z
LAST-MODIFIED:20200214T000936Z
UID:1047-1584095400-1584102600@zenademocraticschool.org
SUMMARY:Play Day
DESCRIPTION:
URL:https://zenademocraticschool.org/event/play-day-8/
CATEGORIES:Academic Calendar
ATTACH;FMTTYPE=image/jpeg:https://zenademocraticschool.org/wp-content/uploads/2020/02/play-day.jpg
END:VEVENT
END:VCALENDAR