BEGIN:VCALENDAR
VERSION:2.0
PRODID:-//Zena Democratic School - ECPv6.15.3//NONSGML v1.0//EN
CALSCALE:GREGORIAN
METHOD:PUBLISH
X-WR-CALNAME:Zena Democratic School
X-ORIGINAL-URL:https://zenademocraticschool.org
X-WR-CALDESC:Events for Zena Democratic School
REFRESH-INTERVAL;VALUE=DURATION:PT1H
X-Robots-Tag:noindex
X-PUBLISHED-TTL:PT1H
BEGIN:VTIMEZONE
TZID:UTC
BEGIN:STANDARD
TZOFFSETFROM:+0000
TZOFFSETTO:+0000
TZNAME:UTC
DTSTART:20190101T000000
END:STANDARD
END:VTIMEZONE
BEGIN:VEVENT
DTSTART;VALUE=DATE:20191127
DTEND;VALUE=DATE:20191202
DTSTAMP:20260423T215628
CREATED:20191119T025557Z
LAST-MODIFIED:20191119T025557Z
UID:367-1574812800-1575244799@zenademocraticschool.org
SUMMARY:Thanksgiving Break
DESCRIPTION:Thanksgiving Day is a national holiday celebrated in the United States. It was originally celebrated as a day of giving thanks for the blessing of the harvest and of the preceding year. Thanksgiving is celebrated on the fourth Thursday of November in the United States. Several other places around the world observe similar celebrations. Although Thanksgiving has historical roots in religious and cultural traditions\, it has long been celebrated in a secular manner as well.
URL:https://zenademocraticschool.org/event/thanksgiving-break/
CATEGORIES:Academic Calendar
ATTACH;FMTTYPE=image/jpeg:https://zenademocraticschool.org/wp-content/uploads/2019/11/Happy-Thanksgiving-Cornucopia-3.jpg
END:VEVENT
END:VCALENDAR