BEGIN:VCALENDAR
VERSION:2.0
PRODID:-//Zena Democratic School - ECPv6.15.3//NONSGML v1.0//EN
CALSCALE:GREGORIAN
METHOD:PUBLISH
X-WR-CALNAME:Zena Democratic School
X-ORIGINAL-URL:https://zenademocraticschool.org
X-WR-CALDESC:Events for Zena Democratic School
REFRESH-INTERVAL;VALUE=DURATION:PT1H
X-Robots-Tag:noindex
X-PUBLISHED-TTL:PT1H
BEGIN:VTIMEZONE
TZID:America/New_York
BEGIN:DAYLIGHT
TZOFFSETFROM:-0500
TZOFFSETTO:-0400
TZNAME:EDT
DTSTART:20260308T070000
END:DAYLIGHT
BEGIN:STANDARD
TZOFFSETFROM:-0400
TZOFFSETTO:-0500
TZNAME:EST
DTSTART:20261101T060000
END:STANDARD
END:VTIMEZONE
BEGIN:VEVENT
DTSTART;TZID=America/New_York:20260321T130000
DTEND;TZID=America/New_York:20260321T160000
DTSTAMP:20260423T131511
CREATED:20250617T150257Z
LAST-MODIFIED:20250617T150257Z
UID:4335-1774098000-1774108800@zenademocraticschool.org
SUMMARY:Open House
DESCRIPTION:ZDS Open Houses are the best way to learn more about the school. Students\, parents\, alumni\, and staff members will be in attendance to give tours of the campus\, discuss the school\, and answer questions. Panel discussion at 2:00pm. \nRSVP >
URL:https://zenademocraticschool.org/event/open-house-27/
LOCATION:Zena Democratic School\, 84 Zena Road\, Kingston\, NY
CATEGORIES:Open House
END:VEVENT
END:VCALENDAR