BEGIN:VCALENDAR
VERSION:2.0
PRODID:-//Zena Democratic School - ECPv6.15.3//NONSGML v1.0//EN
CALSCALE:GREGORIAN
METHOD:PUBLISH
X-WR-CALNAME:Zena Democratic School
X-ORIGINAL-URL:https://zenademocraticschool.org
X-WR-CALDESC:Events for Zena Democratic School
REFRESH-INTERVAL;VALUE=DURATION:PT1H
X-Robots-Tag:noindex
X-PUBLISHED-TTL:PT1H
BEGIN:VTIMEZONE
TZID:UTC
BEGIN:STANDARD
TZOFFSETFROM:+0000
TZOFFSETTO:+0000
TZNAME:UTC
DTSTART:20190101T000000
END:STANDARD
END:VTIMEZONE
BEGIN:VEVENT
DTSTART;TZID=UTC:20191123T130000
DTEND;TZID=UTC:20191123T160000
DTSTAMP:20260423T155715
CREATED:20191119T025241Z
LAST-MODIFIED:20191119T032404Z
UID:364-1574514000-1574524800@zenademocraticschool.org
SUMMARY:Open House
DESCRIPTION:HVSS Open Houses are the best way to learn more about the school.  Students\, parents\, alumni\, and staff members will be in attendance to give tours of the campus\, discuss the school\, and answer questions.  Panel discussion at 2:00. \n2019-2020 Open House dates are: September 28\, 2019\, November 23\, 2019\, January 18\, 2020\, and May 16\, 2020. \nThere is no need to RSVP.
URL:https://zenademocraticschool.org/event/open-house/
LOCATION:Hudson Valley Sudbury School\, 84 Zena Road\, Kingston\, NY
CATEGORIES:Open House
ATTACH;FMTTYPE=image/gif:https://zenademocraticschool.org/wp-content/uploads/2019/11/open-house.gif
END:VEVENT
END:VCALENDAR