BEGIN:VCALENDAR
VERSION:2.0
PRODID:-//Zena Democratic School - ECPv6.15.3//NONSGML v1.0//EN
CALSCALE:GREGORIAN
METHOD:PUBLISH
X-WR-CALNAME:Zena Democratic School
X-ORIGINAL-URL:https://zenademocraticschool.org
X-WR-CALDESC:Events for Zena Democratic School
REFRESH-INTERVAL;VALUE=DURATION:PT1H
X-Robots-Tag:noindex
X-PUBLISHED-TTL:PT1H
BEGIN:VTIMEZONE
TZID:America/New_York
BEGIN:DAYLIGHT
TZOFFSETFROM:-0500
TZOFFSETTO:-0400
TZNAME:EDT
DTSTART:20250309T070000
END:DAYLIGHT
BEGIN:STANDARD
TZOFFSETFROM:-0400
TZOFFSETTO:-0500
TZNAME:EST
DTSTART:20251102T060000
END:STANDARD
BEGIN:DAYLIGHT
TZOFFSETFROM:-0500
TZOFFSETTO:-0400
TZNAME:EDT
DTSTART:20260308T070000
END:DAYLIGHT
BEGIN:STANDARD
TZOFFSETFROM:-0400
TZOFFSETTO:-0500
TZNAME:EST
DTSTART:20261101T060000
END:STANDARD
END:VTIMEZONE
BEGIN:VTIMEZONE
TZID:America/Halifax
BEGIN:DAYLIGHT
TZOFFSETFROM:-0400
TZOFFSETTO:-0300
TZNAME:ADT
DTSTART:20250309T060000
END:DAYLIGHT
BEGIN:STANDARD
TZOFFSETFROM:-0300
TZOFFSETTO:-0400
TZNAME:AST
DTSTART:20251102T050000
END:STANDARD
END:VTIMEZONE
BEGIN:VEVENT
DTSTART;TZID=America/New_York:20260418T130000
DTEND;TZID=America/New_York:20260418T160000
DTSTAMP:20260423T191000
CREATED:20250617T145042Z
LAST-MODIFIED:20250617T145042Z
UID:4322-1776517200-1776528000@zenademocraticschool.org
SUMMARY:Open House
DESCRIPTION:ZDS Open Houses are the best way to learn more about the school. Students\, parents\, alumni\, and staff members will be in attendance to give tours of the campus\, discuss the school\, and answer questions. Panel discussion at 2:00pm. \nRSVP >
URL:https://zenademocraticschool.org/event/open-house-25/
LOCATION:Zena Democratic School\, 84 Zena Road\, Kingston\, NY
CATEGORIES:Open House
END:VEVENT
BEGIN:VEVENT
DTSTART;VALUE=DATE:20260330
DTEND;VALUE=DATE:20260407
DTSTAMP:20260423T191000
CREATED:20250617T145208Z
LAST-MODIFIED:20250914T191812Z
UID:4324-1774828800-1775519999@zenademocraticschool.org
SUMMARY:No School - Spring Break
DESCRIPTION:School Closed for Spring Break
URL:https://zenademocraticschool.org/event/no-school-spring-break-2/
LOCATION:NY
CATEGORIES:Holiday
END:VEVENT
BEGIN:VEVENT
DTSTART;TZID=America/New_York:20260321T130000
DTEND;TZID=America/New_York:20260321T160000
DTSTAMP:20260423T191000
CREATED:20250617T150257Z
LAST-MODIFIED:20250617T150257Z
UID:4335-1774098000-1774108800@zenademocraticschool.org
SUMMARY:Open House
DESCRIPTION:ZDS Open Houses are the best way to learn more about the school. Students\, parents\, alumni\, and staff members will be in attendance to give tours of the campus\, discuss the school\, and answer questions. Panel discussion at 2:00pm. \nRSVP >
URL:https://zenademocraticschool.org/event/open-house-27/
LOCATION:Zena Democratic School\, 84 Zena Road\, Kingston\, NY
CATEGORIES:Open House
END:VEVENT
BEGIN:VEVENT
DTSTART;VALUE=DATE:20260216
DTEND;VALUE=DATE:20260221
DTSTAMP:20260423T191000
CREATED:20250617T144916Z
LAST-MODIFIED:20250617T144916Z
UID:4320-1771200000-1771631999@zenademocraticschool.org
SUMMARY:No School - February Break
DESCRIPTION:School is closed for February Break
URL:https://zenademocraticschool.org/event/no-school-february-break/
LOCATION:NY
CATEGORIES:Holiday
END:VEVENT
BEGIN:VEVENT
DTSTART;TZID=America/New_York:20260213T180000
DTEND;TZID=America/New_York:20260213T210000
DTSTAMP:20260423T191000
CREATED:20250617T144828Z
LAST-MODIFIED:20250617T144828Z
UID:4318-1771005600-1771016400@zenademocraticschool.org
SUMMARY:Valentine's Ball
DESCRIPTION:A fancy dance party for students\, staff\, parents\, friends\, and alumni
URL:https://zenademocraticschool.org/event/valentines-ball-6/
LOCATION:NY
END:VEVENT
BEGIN:VEVENT
DTSTART;TZID=America/New_York:20260202T190000
DTEND;TZID=America/New_York:20260202T210000
DTSTAMP:20260423T191000
CREATED:20250617T144439Z
LAST-MODIFIED:20250617T144439Z
UID:4316-1770058800-1770066000@zenademocraticschool.org
SUMMARY:Annual Assembly Meeting
DESCRIPTION:Annual Assembly Meeting for Parents\, Students and Staff to ratify bylaw changes\, elect trustees and financial aid committee members and have discusisons.
URL:https://zenademocraticschool.org/event/annual-assembly-meeting-3/
LOCATION:Zena Democratic School\, 84 Zena Road\, Kingston\, NY
END:VEVENT
BEGIN:VEVENT
DTSTART;TZID=America/New_York:20260128T173000
DTEND;TZID=America/New_York:20260128T193000
DTSTAMP:20260423T191000
CREATED:20260114T193017Z
LAST-MODIFIED:20260114T193017Z
UID:4397-1769621400-1769628600@zenademocraticschool.org
SUMMARY:A Conversation About the Little Kid Experience at ZDS
DESCRIPTION:A casual event for parents of young children who are thinking of enrolling. Staff and current parents will be available for casual conversation about the experiences little kids have at school. Lego robotics and art projects will be available for kids! \nRVSP: https://forms.gle/YW2REbRLxhCXv7Wy8 \n 
URL:https://zenademocraticschool.org/event/a-conversation-about-the-little-kid-experience-at-zds/
LOCATION:Zena Democratic School\, 84 Zena Road\, Kingston\, NY
END:VEVENT
BEGIN:VEVENT
DTSTART;VALUE=DATE:20260119
DTEND;VALUE=DATE:20260120
DTSTAMP:20260423T191000
CREATED:20250617T144253Z
LAST-MODIFIED:20250617T144253Z
UID:4314-1768780800-1768867199@zenademocraticschool.org
SUMMARY:No School - MLK Jr Day
DESCRIPTION:School closed in Recognition of MLK Jr Day
URL:https://zenademocraticschool.org/event/no-school-mlk-jr-day-2/
LOCATION:NY
CATEGORIES:Holiday
END:VEVENT
BEGIN:VEVENT
DTSTART;VALUE=DATE:20251222
DTEND;VALUE=DATE:20260103
DTSTAMP:20260423T191000
CREATED:20250617T144139Z
LAST-MODIFIED:20250617T144139Z
UID:4312-1766361600-1767398399@zenademocraticschool.org
SUMMARY:No School - Winter Break
DESCRIPTION:School is closed for Winter Break
URL:https://zenademocraticschool.org/event/no-school-winter-break-2/
LOCATION:NY
CATEGORIES:Holiday
END:VEVENT
BEGIN:VEVENT
DTSTART;TZID=America/New_York:20251219T100000
DTEND;TZID=America/New_York:20251219T120000
DTSTAMP:20260423T191000
CREATED:20250617T143943Z
LAST-MODIFIED:20250617T144042Z
UID:4310-1766138400-1766145600@zenademocraticschool.org
SUMMARY:Winter Gift Exchange
DESCRIPTION:Fan favorite Winter Gift Exchange for students and staff
URL:https://zenademocraticschool.org/event/winter-gift-exchange/
LOCATION:Zena Democratic School\, 84 Zena Road\, Kingston\, NY
END:VEVENT
BEGIN:VEVENT
DTSTART;TZID=America/New_York:20251206T130000
DTEND;TZID=America/New_York:20251206T160000
DTSTAMP:20260423T191000
CREATED:20250617T140208Z
LAST-MODIFIED:20251011T233237Z
UID:4296-1765026000-1765036800@zenademocraticschool.org
SUMMARY:Open House
DESCRIPTION:ZDS Open Houses are the best way to learn more about the school. Students\, parents\, alumni\, and staff members will be in attendance to give tours of the campus\, discuss the school\, and answer questions. Panel discussion at 2:00pm. \nRSVP >
URL:https://zenademocraticschool.org/event/open-house-24/
LOCATION:Zena Democratic School\, 84 Zena Road\, Kingston\, NY
CATEGORIES:Open House
END:VEVENT
BEGIN:VEVENT
DTSTART;VALUE=DATE:20251126
DTEND;VALUE=DATE:20251129
DTSTAMP:20260423T191000
CREATED:20250617T140531Z
LAST-MODIFIED:20250617T140531Z
UID:4300-1764115200-1764374399@zenademocraticschool.org
SUMMARY:No School - Thanksgiving Break
DESCRIPTION:No School – for Thanksgiving Break
URL:https://zenademocraticschool.org/event/no-school-thanksgiving-break-2/
LOCATION:NY
CATEGORIES:Holiday
END:VEVENT
BEGIN:VEVENT
DTSTART;VALUE=DATE:20251111
DTEND;VALUE=DATE:20251112
DTSTAMP:20260423T191000
CREATED:20250617T143702Z
LAST-MODIFIED:20250617T143702Z
UID:4306-1762819200-1762905599@zenademocraticschool.org
SUMMARY:No School - Veteran's Day
DESCRIPTION:No School in Recognition of Veteran’s Day
URL:https://zenademocraticschool.org/event/no-school-veterans-day-2/
LOCATION:NY
END:VEVENT
BEGIN:VEVENT
DTSTART;VALUE=DATE:20251104
DTEND;VALUE=DATE:20251105
DTSTAMP:20260423T191000
CREATED:20250617T143503Z
LAST-MODIFIED:20250617T143503Z
UID:4304-1762214400-1762300799@zenademocraticschool.org
SUMMARY:No School - Election Day
DESCRIPTION:No School for Election Day
URL:https://zenademocraticschool.org/event/no-school-election-day-2/
LOCATION:NY
CATEGORIES:Holiday
END:VEVENT
BEGIN:VEVENT
DTSTART;VALUE=DATE:20251013
DTEND;VALUE=DATE:20251014
DTSTAMP:20260423T191000
CREATED:20250617T135802Z
LAST-MODIFIED:20250617T135920Z
UID:4294-1760313600-1760399999@zenademocraticschool.org
SUMMARY:No School - Indigenous People's Day
DESCRIPTION:School Closed in recognition of Indigenous People’s Day
URL:https://zenademocraticschool.org/event/no-school-indigenous-peoples-day-2/
LOCATION:NY
CATEGORIES:Academic Calendar
END:VEVENT
BEGIN:VEVENT
DTSTART;VALUE=DATE:20251002
DTEND;VALUE=DATE:20251003
DTSTAMP:20260423T191000
CREATED:20250617T143323Z
LAST-MODIFIED:20250617T143323Z
UID:4302-1759363200-1759449599@zenademocraticschool.org
SUMMARY:No School - Yom Kippur
DESCRIPTION:No School in recognition of Yom Kippur
URL:https://zenademocraticschool.org/event/no-school-yom-kippur/
LOCATION:NY
END:VEVENT
BEGIN:VEVENT
DTSTART;TZID=America/New_York:20250926T170000
DTEND;TZID=America/New_York:20250926T200000
DTSTAMP:20260423T191000
CREATED:20250617T143824Z
LAST-MODIFIED:20250617T143824Z
UID:4308-1758906000-1758916800@zenademocraticschool.org
SUMMARY:Fall Potluck
DESCRIPTION:Bring a dish to pass for our annual Fall Potluck
URL:https://zenademocraticschool.org/event/fall-potluck-5/
LOCATION:Zena Democratic School\, 84 Zena Road\, Kingston\, NY
END:VEVENT
BEGIN:VEVENT
DTSTART;VALUE=DATE:20250923
DTEND;VALUE=DATE:20250924
DTSTAMP:20260423T191000
CREATED:20250617T140343Z
LAST-MODIFIED:20250617T140343Z
UID:4298-1758585600-1758671999@zenademocraticschool.org
SUMMARY:No School - Rosh Hashanah
DESCRIPTION:School Closed in recognition Rosh Hashanah
URL:https://zenademocraticschool.org/event/no-school-rosh-hashanah-2/
LOCATION:NY
END:VEVENT
BEGIN:VEVENT
DTSTART;TZID=America/New_York:20250920T130000
DTEND;TZID=America/New_York:20250920T160000
DTSTAMP:20260423T191000
CREATED:20250617T135627Z
LAST-MODIFIED:20250617T135627Z
UID:4292-1758373200-1758384000@zenademocraticschool.org
SUMMARY:Open House
DESCRIPTION:ZDS Open Houses are the best way to learn more about the school. Students\, parents\, alumni\, and staff members will be in attendance to give tours of the campus\, discuss the school\, and answer questions. Panel discussion at 2:00pm. \nRSVP >
URL:https://zenademocraticschool.org/event/open-house-23/
LOCATION:Zena Democratic School\, 84 Zena Road\, Kingston\, NY
CATEGORIES:Open House
END:VEVENT
BEGIN:VEVENT
DTSTART;TZID=America/New_York:20250912T160000
DTEND;TZID=America/New_York:20250912T180000
DTSTAMP:20260423T191000
CREATED:20250617T135044Z
LAST-MODIFIED:20250617T135044Z
UID:4287-1757692800-1757700000@zenademocraticschool.org
SUMMARY:Ice Cream Social
DESCRIPTION:Current families are welcome to join us for ice cream and mingling! 
URL:https://zenademocraticschool.org/event/ice-cream-social-4/
LOCATION:NY
END:VEVENT
BEGIN:VEVENT
DTSTART;TZID=America/New_York:20250908T083000
DTEND;TZID=America/New_York:20250908T160000
DTSTAMP:20260423T191000
CREATED:20250617T132710Z
LAST-MODIFIED:20250617T132710Z
UID:4285-1757320200-1757347200@zenademocraticschool.org
SUMMARY:First Day of School
DESCRIPTION:First Day of School
URL:https://zenademocraticschool.org/event/first-day-of-school-6/
LOCATION:Zena Democratic School\, 84 Zena Road\, Kingston\, NY
END:VEVENT
BEGIN:VEVENT
DTSTART;TZID=America/New_York:20250903T170000
DTEND;TZID=America/New_York:20250903T190000
DTSTAMP:20260423T191000
CREATED:20250617T135414Z
LAST-MODIFIED:20250617T135414Z
UID:4289-1756918800-1756926000@zenademocraticschool.org
SUMMARY:Welcome Back Picnic
DESCRIPTION:A Potluck Welcome Back Picnic at Forsyth Park
URL:https://zenademocraticschool.org/event/welcome-back-picnic-2/
LOCATION:Forsyth Park\, Kingston\, 125 Lucas Ave\, Kingston\, NY\, 12401\, United States
END:VEVENT
BEGIN:VEVENT
DTSTART;VALUE=DATE:20250613
DTEND;VALUE=DATE:20250614
DTSTAMP:20260423T191000
CREATED:20240622T031909Z
LAST-MODIFIED:20240622T031909Z
UID:4072-1749772800-1749859199@zenademocraticschool.org
SUMMARY:Last Day of School
DESCRIPTION:Last Day of School!
URL:https://zenademocraticschool.org/event/last-day-of-school-6/
LOCATION:Zena Democratic School\, 84 Zena Road\, Kingston\, NY
CATEGORIES:Academic Calendar
END:VEVENT
BEGIN:VEVENT
DTSTART;TZID=America/New_York:20250607T160000
DTEND;TZID=America/New_York:20250607T220000
DTSTAMP:20260423T191000
CREATED:20240622T031836Z
LAST-MODIFIED:20240622T031836Z
UID:4070-1749312000-1749333600@zenademocraticschool.org
SUMMARY:Graduation & End of Year Celebration
DESCRIPTION:Our Graduation Ceremony and End of Year Celebration 
URL:https://zenademocraticschool.org/event/graduation-end-of-year-celebration/
LOCATION:Zena Democratic School\, 84 Zena Road\, Kingston\, NY
END:VEVENT
BEGIN:VEVENT
DTSTART;TZID=America/New_York:20250601T140000
DTEND;TZID=America/New_York:20250601T150000
DTSTAMP:20260423T191000
CREATED:20250502T022600Z
LAST-MODIFIED:20250518T230642Z
UID:4253-1748786400-1748790000@zenademocraticschool.org
SUMMARY:ZDS Theater Coop Presents: A Wrinkle in Time
DESCRIPTION:ZDS Theater Cooperative Production of A Wrinkle in Time. \nShow is outside.
URL:https://zenademocraticschool.org/event/zds-theater-coop-presents-a-wrinkle-in-time-3/
LOCATION:Zena Democratic School\, 84 Zena Road\, Kingston\, NY
END:VEVENT
BEGIN:VEVENT
DTSTART;TZID=America/New_York:20250531T200000
DTEND;TZID=America/New_York:20250531T210000
DTSTAMP:20260423T191000
CREATED:20250502T022457Z
LAST-MODIFIED:20250518T230539Z
UID:4251-1748721600-1748725200@zenademocraticschool.org
SUMMARY:ZDS Theater Coop Presents: A Wrinkle in Time
DESCRIPTION:ZDS Theater Cooperative Production of A Wrinkle in Time. \nShow is outside.
URL:https://zenademocraticschool.org/event/zds-theater-coop-presents-a-wrinkle-in-time-2/
LOCATION:Zena Democratic School\, 84 Zena Road\, Kingston\, NY
END:VEVENT
BEGIN:VEVENT
DTSTART;TZID=America/New_York:20250530T190000
DTEND;TZID=America/New_York:20250530T200000
DTSTAMP:20260423T191000
CREATED:20250502T022418Z
LAST-MODIFIED:20250518T230502Z
UID:4249-1748631600-1748635200@zenademocraticschool.org
SUMMARY:ZDS Theater Coop Presents: A Wrinkle in Time
DESCRIPTION:ZDS Theater Cooperative Production of A Wrinkle in Time. \nShow is outside.
URL:https://zenademocraticschool.org/event/zds-theater-coop-presents-a-wrinkle-in-time/
LOCATION:Zena Democratic School\, 84 Zena Road\, Kingston\, NY
END:VEVENT
BEGIN:VEVENT
DTSTART;TZID=America/New_York:20250528T100000
DTEND;TZID=America/New_York:20250528T150000
DTSTAMP:20260423T191000
CREATED:20250502T020551Z
LAST-MODIFIED:20250518T230605Z
UID:4242-1748426400-1748444400@zenademocraticschool.org
SUMMARY:Playground Build
DESCRIPTION:Community build to add to and maintain our amazing playground.
URL:https://zenademocraticschool.org/event/playground-build/
LOCATION:Zena Democratic School\, 84 Zena Road\, Kingston\, NY
END:VEVENT
BEGIN:VEVENT
DTSTART;VALUE=DATE:20250526
DTEND;VALUE=DATE:20250527
DTSTAMP:20260423T191000
CREATED:20240622T031702Z
LAST-MODIFIED:20240622T031702Z
UID:4068-1748217600-1748303999@zenademocraticschool.org
SUMMARY:No School - Memorial Day
DESCRIPTION:No School – Memorial Day
URL:https://zenademocraticschool.org/event/no-school-memorial-day/
LOCATION:NY
CATEGORIES:Holiday
END:VEVENT
BEGIN:VEVENT
DTSTART;TZID=America/New_York:20250524T180000
DTEND;TZID=America/New_York:20250524T200000
DTSTAMP:20260423T191000
CREATED:20250502T021220Z
LAST-MODIFIED:20250502T021909Z
UID:4244-1748109600-1748116800@zenademocraticschool.org
SUMMARY:ZDS Night Out at Stockade FC
DESCRIPTION:Join us for a night at Stockade FC – Kingston’s men’s semipro soccer team!
URL:https://zenademocraticschool.org/event/zds-night-out-at-stockade-fc/
LOCATION:Dietz Stadium\, 170 North Front Street\, Kingston\, New York\, 12401\, United States
END:VEVENT
END:VCALENDAR