BEGIN:VCALENDAR
VERSION:2.0
PRODID:-//Zena Democratic School - ECPv6.15.3//NONSGML v1.0//EN
CALSCALE:GREGORIAN
METHOD:PUBLISH
X-WR-CALNAME:Zena Democratic School
X-ORIGINAL-URL:https://zenademocraticschool.org
X-WR-CALDESC:Events for Zena Democratic School
REFRESH-INTERVAL;VALUE=DURATION:PT1H
X-Robots-Tag:noindex
X-PUBLISHED-TTL:PT1H
BEGIN:VTIMEZONE
TZID:America/Halifax
BEGIN:DAYLIGHT
TZOFFSETFROM:-0400
TZOFFSETTO:-0300
TZNAME:ADT
DTSTART:20220313T060000
END:DAYLIGHT
BEGIN:STANDARD
TZOFFSETFROM:-0300
TZOFFSETTO:-0400
TZNAME:AST
DTSTART:20221106T050000
END:STANDARD
BEGIN:DAYLIGHT
TZOFFSETFROM:-0400
TZOFFSETTO:-0300
TZNAME:ADT
DTSTART:20230312T060000
END:DAYLIGHT
BEGIN:STANDARD
TZOFFSETFROM:-0300
TZOFFSETTO:-0400
TZNAME:AST
DTSTART:20231105T050000
END:STANDARD
END:VTIMEZONE
BEGIN:VTIMEZONE
TZID:UTC
BEGIN:STANDARD
TZOFFSETFROM:+0000
TZOFFSETTO:+0000
TZNAME:UTC
DTSTART:20220101T000000
END:STANDARD
END:VTIMEZONE
BEGIN:VEVENT
DTSTART;TZID=America/Halifax:20230401T190000
DTEND;TZID=America/Halifax:20230401T220000
DTSTAMP:20260424T055221
CREATED:20220902T142510Z
LAST-MODIFIED:20230315T200348Z
UID:2988-1680375600-1680386400@zenademocraticschool.org
SUMMARY:An Auction in Oz
DESCRIPTION:Come one\, come all! Winkies\, quadlings\, munchkins\, Gillikins\, wizards\, and witches. You are most cordially invited to walk the road of yellow brick into the auction of Oz Gala in the Emerald City! Hearts! Brains! Courage! Kansas! Whatever you need most\, you will find it here\, and have fun at the same time!  \nCome and enjoy: Live music! Dancing! Auctions! hors d’oeuvres! Mock-tails! Face painting! Make your own tin-man heart! \nAuction Items will be accepted until March 9th via the form below. From March 11th to 4pm on April 1st anyone can bid on items online. At that time the highest bid will be transferred to the live event.  
URL:https://zenademocraticschool.org/event/auction-gala-2023/
LOCATION:Hudson Valley Sudbury School\, 84 Zena Road\, Kingston\, NY
END:VEVENT
BEGIN:VEVENT
DTSTART;TZID=America/Halifax:20230304T130000
DTEND;TZID=America/Halifax:20230304T160000
DTSTAMP:20260424T055221
CREATED:20230126T162613Z
LAST-MODIFIED:20230126T162613Z
UID:3139-1677934800-1677945600@zenademocraticschool.org
SUMMARY:Open House
DESCRIPTION:HVSS Open Houses are the best way to learn more about the school. Students\, parents\, alumni\, and staff members will be in attendance to give tours of the campus\, discuss the school\, and answer questions. Panel discussion at 2:00pm.
URL:https://zenademocraticschool.org/event/open-house-12/
LOCATION:Hudson Valley Sudbury School\, 84 Zena Road\, Kingston\, NY
CATEGORIES:Open House
END:VEVENT
BEGIN:VEVENT
DTSTART;VALUE=DATE:20230220
DTEND;VALUE=DATE:20230225
DTSTAMP:20260424T055221
CREATED:20220830T161907Z
LAST-MODIFIED:20220830T161907Z
UID:2958-1676851200-1677283199@zenademocraticschool.org
SUMMARY:Mid Winter Break
DESCRIPTION:Mid Winter Break – No School
URL:https://zenademocraticschool.org/event/mid-winter-break/
LOCATION:NY
END:VEVENT
BEGIN:VEVENT
DTSTART;TZID=America/Halifax:20230217T180000
DTEND;TZID=America/Halifax:20230217T210000
DTSTAMP:20260424T055221
CREATED:20220830T161833Z
LAST-MODIFIED:20220830T161833Z
UID:2956-1676656800-1676667600@zenademocraticschool.org
SUMMARY:Valentine's Ball
DESCRIPTION:Put on your fancy duds and get your groove on at the Valentine’s Ball. Open to enrolled families and those they invite.
URL:https://zenademocraticschool.org/event/valentines-ball-3/
LOCATION:NY
END:VEVENT
BEGIN:VEVENT
DTSTART;TZID=America/Halifax:20230212T150000
DTEND;TZID=America/Halifax:20230212T170000
DTSTAMP:20260424T055221
CREATED:20230130T030952Z
LAST-MODIFIED:20230130T030952Z
UID:3172-1676214000-1676221200@zenademocraticschool.org
SUMMARY:Little Women
DESCRIPTION:Hudson Valley Sudbury School is proud to present Little Women. \nAt Arts Society of Kingston  97 Broadway\, Kingston\, NY 12401 \nFebruary 10 & 11 at 7pm and February 12 at 3pm \n$15 tickets: https://hvsslittlewomen.brownpapertickets.com/ \nA new spin on the classic story by Louisa May Alcott. The production is a period specific piece that represents the time the story took place in – a time that feels all too familiar even though it was written over 150 years ago. It highlights real relationships\, their ups and downs\, and how showing your truth isnt always easy. The audience will walk away with the recognition that they should not underestimate young women\, or kids in general – both from the story and the production – in their talent\, strength\, and persistence. Adapted\, written\, and performed by the Hudson Valley Sudbury School Theater Cooperative. \nAdapted by Maia LaSalvia and Mae Gallagher\nWritten by Maia LaSalvia\nDirected by Trine Boode-Petersen\nSpecial thanks to Dani Super
URL:https://zenademocraticschool.org/event/little-women-3/
LOCATION:Arts Society of Kingston\, 97 Broadway\, Kingston\, NY\, 12401\, United States
END:VEVENT
BEGIN:VEVENT
DTSTART;TZID=America/Halifax:20230211T190000
DTEND;TZID=America/Halifax:20230211T210000
DTSTAMP:20260424T055221
CREATED:20230130T030858Z
LAST-MODIFIED:20230130T030858Z
UID:3170-1676142000-1676149200@zenademocraticschool.org
SUMMARY:Little Women
DESCRIPTION:Hudson Valley Sudbury School is proud to present Little Women. \nAt Arts Society of Kingston  97 Broadway\, Kingston\, NY 12401 \nFebruary 10 & 11 at 7pm and February 12 at 3pm \n$15 tickets: https://hvsslittlewomen.brownpapertickets.com/ \nA new spin on the classic story by Louisa May Alcott. The production is a period specific piece that represents the time the story took place in – a time that feels all too familiar even though it was written over 150 years ago. It highlights real relationships\, their ups and downs\, and how showing your truth isnt always easy. The audience will walk away with the recognition that they should not underestimate young women\, or kids in general – both from the story and the production – in their talent\, strength\, and persistence. Adapted\, written\, and performed by the Hudson Valley Sudbury School Theater Cooperative. \nAdapted by Maia LaSalvia and Mae Gallagher\nWritten by Maia LaSalvia\nDirected by Trine Boode-Petersen\nSpecial thanks to Dani Super
URL:https://zenademocraticschool.org/event/little-women-2/
LOCATION:Arts Society of Kingston\, 97 Broadway\, Kingston\, NY\, 12401\, United States
END:VEVENT
BEGIN:VEVENT
DTSTART;TZID=America/Halifax:20230210T190000
DTEND;TZID=America/Halifax:20230210T210000
DTSTAMP:20260424T055221
CREATED:20230130T030755Z
LAST-MODIFIED:20230130T030755Z
UID:3167-1676055600-1676062800@zenademocraticschool.org
SUMMARY:Little Women
DESCRIPTION:Hudson Valley Sudbury School is proud to present Little Women. \nAt Arts Society of Kingston  97 Broadway\, Kingston\, NY 12401 \nFebruary 10 & 11 at 7pm and February 12 at 3pm \n$15 tickets: https://hvsslittlewomen.brownpapertickets.com/ \nA new spin on the classic story by Louisa May Alcott. The production is a period specific piece that represents the time the story took place in – a time that feels all too familiar even though it was written over 150 years ago. It highlights real relationships\, their ups and downs\, and how showing your truth isnt always easy. The audience will walk away with the recognition that they should not underestimate young women\, or kids in general – both from the story and the production – in their talent\, strength\, and persistence. Adapted\, written\, and performed by the Hudson Valley Sudbury School Theater Cooperative. \nAdapted by Maia LaSalvia and Mae Gallagher\nWritten by Maia LaSalvia\nDirected by Trine Boode-Petersen\nSpecial thanks to Dani Super
URL:https://zenademocraticschool.org/event/little-women/
LOCATION:Arts Society of Kingston\, 97 Broadway\, Kingston\, NY\, 12401\, United States
END:VEVENT
BEGIN:VEVENT
DTSTART;VALUE=DATE:20230116
DTEND;VALUE=DATE:20230117
DTSTAMP:20260424T055221
CREATED:20220830T161715Z
LAST-MODIFIED:20220830T161715Z
UID:2954-1673827200-1673913599@zenademocraticschool.org
SUMMARY:Martin Luther King Day
DESCRIPTION:Martin Luther King Day – No School
URL:https://zenademocraticschool.org/event/martin-luther-king-day-2/
LOCATION:NY
END:VEVENT
BEGIN:VEVENT
DTSTART;VALUE=DATE:20221219
DTEND;VALUE=DATE:20230103
DTSTAMP:20260424T055221
CREATED:20220830T161629Z
LAST-MODIFIED:20220830T161629Z
UID:2952-1671408000-1672703999@zenademocraticschool.org
SUMMARY:Winter Break
DESCRIPTION:Winter Break – School Closed
URL:https://zenademocraticschool.org/event/winter-break-4/
LOCATION:NY
END:VEVENT
BEGIN:VEVENT
DTSTART;VALUE=DATE:20221123
DTEND;VALUE=DATE:20221126
DTSTAMP:20260424T055221
CREATED:20220830T161528Z
LAST-MODIFIED:20220830T161528Z
UID:2950-1669161600-1669420799@zenademocraticschool.org
SUMMARY:Thanksgiving Break
DESCRIPTION:Thanksgiving Break – School Closed
URL:https://zenademocraticschool.org/event/thanksgiving-break-4/
LOCATION:NY
END:VEVENT
BEGIN:VEVENT
DTSTART;TZID=America/Halifax:20221120T170000
DTEND;TZID=America/Halifax:20221120T210000
DTSTAMP:20260424T055221
CREATED:20221113T014046Z
LAST-MODIFIED:20221113T014046Z
UID:3101-1668963600-1668978000@zenademocraticschool.org
SUMMARY:Friendsgiving
DESCRIPTION:A friendly feast for enrolled families! Two seatings. RSVPs required
URL:https://zenademocraticschool.org/event/friendsgiving/
LOCATION:Hudson Valley Sudbury School\, 84 Zena Road\, Kingston\, NY
END:VEVENT
BEGIN:VEVENT
DTSTART;VALUE=DATE:20221111
DTEND;VALUE=DATE:20221112
DTSTAMP:20260424T055221
CREATED:20220830T161449Z
LAST-MODIFIED:20220830T161449Z
UID:2948-1668124800-1668211199@zenademocraticschool.org
SUMMARY:Veteran's Day
DESCRIPTION:Veteran’s Day – School Closed
URL:https://zenademocraticschool.org/event/veterans-day-3/
LOCATION:NY
END:VEVENT
BEGIN:VEVENT
DTSTART;VALUE=DATE:20221108
DTEND;VALUE=DATE:20221109
DTSTAMP:20260424T055221
CREATED:20220830T161352Z
LAST-MODIFIED:20220830T161352Z
UID:2946-1667865600-1667951999@zenademocraticschool.org
SUMMARY:Election Day
DESCRIPTION:Election Day – School Closed
URL:https://zenademocraticschool.org/event/election-day/
LOCATION:NY
END:VEVENT
BEGIN:VEVENT
DTSTART;TZID=America/Halifax:20221022T130000
DTEND;TZID=America/Halifax:20221022T160000
DTSTAMP:20260424T055221
CREATED:20220830T171702Z
LAST-MODIFIED:20220830T171702Z
UID:2975-1666443600-1666454400@zenademocraticschool.org
SUMMARY:Open House
DESCRIPTION:HVSS Open Houses are the best way to learn more about the school. Students\, parents\, alumni\, and staff members will be in attendance to give tours of the campus\, discuss the school\, and answer questions. Panel discussion at 2:00pm. \nRSVP zenademocraticschool.org/open-houses 
URL:https://zenademocraticschool.org/event/open-house-9/
LOCATION:Hudson Valley Sudbury School\, 84 Zena Road\, Kingston\, NY
END:VEVENT
BEGIN:VEVENT
DTSTART;TZID=America/Halifax:20221021T190000
DTEND;TZID=America/Halifax:20221021T190000
DTSTAMP:20260424T055221
CREATED:20220907T190858Z
LAST-MODIFIED:20220907T190858Z
UID:3019-1666378800-1666378800@zenademocraticschool.org
SUMMARY:Intrinsic Motivation at the Hudson Valley Sudbury School
DESCRIPTION:A presentation with Dr. Gina Riley \nThis presentation explores the theories of Self-Determination\, Cognitive Evaluation\, and Intrinsic Motivation as it applies to democratic education and education at the Hudson Valley Sudbury School. Because of curriculum and time constraints\, intrinsic motivation may be difficult to facilitate within the traditional classroom. However\, one of the most impressive strengths of HVSS is that the entire process revolves around a child or teen’s intrinsic motivation to learn. Let’s explore the power of intrinsically motivated\, self directed education at HVSS. \n$10 per family \nTickets at the door \n 
URL:https://zenademocraticschool.org/event/intrinsic-motivation-at-the-hudson-valley-sudbury-school/
LOCATION:NY
END:VEVENT
BEGIN:VEVENT
DTSTART;VALUE=DATE:20221010
DTEND;VALUE=DATE:20221011
DTSTAMP:20260424T055221
CREATED:20220830T161144Z
LAST-MODIFIED:20220830T161144Z
UID:2944-1665360000-1665446399@zenademocraticschool.org
SUMMARY:Indigenous People's Day
DESCRIPTION:Indigenous People’s Day – School Closed
URL:https://zenademocraticschool.org/event/indigenous-peoples-day-3/
LOCATION:NY
END:VEVENT
BEGIN:VEVENT
DTSTART;VALUE=DATE:20221005
DTEND;VALUE=DATE:20221006
DTSTAMP:20260424T055221
CREATED:20220830T161052Z
LAST-MODIFIED:20220830T161052Z
UID:2942-1664928000-1665014399@zenademocraticschool.org
SUMMARY:Yom Kippur
DESCRIPTION:Yom Kippur – School Closed
URL:https://zenademocraticschool.org/event/yom-kippur-3/
LOCATION:NY
END:VEVENT
BEGIN:VEVENT
DTSTART;TZID=America/Halifax:20220930T170000
DTEND;TZID=America/Halifax:20220930T210000
DTSTAMP:20260424T055221
CREATED:20220902T142334Z
LAST-MODIFIED:20220902T142334Z
UID:2986-1664557200-1664571600@zenademocraticschool.org
SUMMARY:Fall Potluck
DESCRIPTION:Fall Potluck for friends and family. Bring a dish to pass and your painting clothes as we will be making a giant joint painting!
URL:https://zenademocraticschool.org/event/fall-potluck-2/
LOCATION:Hudson Valley Sudbury School\, 84 Zena Road\, Kingston\, NY
END:VEVENT
BEGIN:VEVENT
DTSTART;VALUE=DATE:20220926
DTEND;VALUE=DATE:20220927
DTSTAMP:20260424T055221
CREATED:20220830T161006Z
LAST-MODIFIED:20220830T161006Z
UID:2939-1664150400-1664236799@zenademocraticschool.org
SUMMARY:Rosh Hashanah
DESCRIPTION:Rosh Hashanah – School Closed
URL:https://zenademocraticschool.org/event/rosh-hashanah/
LOCATION:NY
END:VEVENT
BEGIN:VEVENT
DTSTART;TZID=America/Halifax:20220924T130000
DTEND;TZID=America/Halifax:20220924T160000
DTSTAMP:20260424T055221
CREATED:20220830T171559Z
LAST-MODIFIED:20220830T171559Z
UID:2972-1664024400-1664035200@zenademocraticschool.org
SUMMARY:Open House
DESCRIPTION:HVSS Open Houses are the best way to learn more about the school. Students\, parents\, alumni\, and staff members will be in attendance to give tours of the campus\, discuss the school\, and answer questions. Panel discussion at 2:00pm. \nRSVP zenademocraticschool.org/open-houses 
URL:https://zenademocraticschool.org/event/open-house-6/
LOCATION:Hudson Valley Sudbury School\, 84 Zena Road\, Kingston\, NY
END:VEVENT
BEGIN:VEVENT
DTSTART;TZID=America/Halifax:20220915T180000
DTEND;TZID=America/Halifax:20220915T190000
DTSTAMP:20260424T055221
CREATED:20220902T141951Z
LAST-MODIFIED:20220902T141951Z
UID:2984-1663264800-1663268400@zenademocraticschool.org
SUMMARY:Community Building Meeting
DESCRIPTION:Join us at the Community Building/Fundraising Committee Meeting where we will focus on Fall Community Building events for families. This meeting is in person.
URL:https://zenademocraticschool.org/event/community-building-meeting/
LOCATION:Hudson Valley Sudbury School\, 84 Zena Road\, Kingston\, NY
END:VEVENT
BEGIN:VEVENT
DTSTART;TZID=America/Halifax:20220912T160000
DTEND;TZID=America/Halifax:20220912T180000
DTSTAMP:20260424T055221
CREATED:20220830T160914Z
LAST-MODIFIED:20220907T190340Z
UID:2937-1662998400-1663005600@zenademocraticschool.org
SUMMARY:Ice Cream Social
DESCRIPTION:Ice Cream Social for enrolled families.
URL:https://zenademocraticschool.org/event/ice-cream-social-2/
LOCATION:Hudson Valley Sudbury School\, 84 Zena Road\, Kingston\, NY
END:VEVENT
BEGIN:VEVENT
DTSTART;TZID=America/Halifax:20220912T083000
DTEND;TZID=America/Halifax:20220912T160000
DTSTAMP:20260424T055221
CREATED:20220817T134710Z
LAST-MODIFIED:20220907T190319Z
UID:2867-1662971400-1662998400@zenademocraticschool.org
SUMMARY:First Day of School
DESCRIPTION:First Day of School!
URL:https://zenademocraticschool.org/event/first-day-of-school-3/
LOCATION:Hudson Valley Sudbury School\, 84 Zena Road\, Kingston\, NY
END:VEVENT
BEGIN:VEVENT
DTSTART;TZID=America/Halifax:20220808T100000
DTEND;TZID=America/Halifax:20220812T150000
DTSTAMP:20260424T055221
CREATED:20220227T202106Z
LAST-MODIFIED:20220227T202106Z
UID:2713-1659952800-1660316400@zenademocraticschool.org
SUMMARY:Sudbury Summer Week 2
DESCRIPTION:Sudbury Summer Camp run by Play Haven Week 2
URL:https://zenademocraticschool.org/event/sudbury-summer-week-2/
LOCATION:Hudson Valley Sudbury School\, 84 Zena Road\, Kingston\, NY
END:VEVENT
BEGIN:VEVENT
DTSTART;TZID=America/Halifax:20220801T100000
DTEND;TZID=America/Halifax:20220805T150000
DTSTAMP:20260424T055221
CREATED:20220227T202013Z
LAST-MODIFIED:20220227T202013Z
UID:2710-1659348000-1659711600@zenademocraticschool.org
SUMMARY:Sudbury Summer Week 1
DESCRIPTION:Sudbury Summer Camp run by Play Haven Week 1
URL:https://zenademocraticschool.org/event/sudbury-summer-week-1/
LOCATION:Hudson Valley Sudbury School\, 84 Zena Road\, Kingston\, NY
END:VEVENT
BEGIN:VEVENT
DTSTART;TZID=America/Halifax:20220725T090000
DTEND;TZID=America/Halifax:20220729T170000
DTSTAMP:20260424T055221
CREATED:20220227T201840Z
LAST-MODIFIED:20220227T201840Z
UID:2708-1658739600-1659114000@zenademocraticschool.org
SUMMARY:Wayfinder Experience Summer Camp Week 2
DESCRIPTION:Wayfinder Experience Summer Camp Week 2
URL:https://zenademocraticschool.org/event/wayfinder-experience-summer-camp-week-2/
LOCATION:Hudson Valley Sudbury School\, 84 Zena Road\, Kingston\, NY
END:VEVENT
BEGIN:VEVENT
DTSTART;TZID=America/Halifax:20220718T090000
DTEND;TZID=America/Halifax:20220722T170000
DTSTAMP:20260424T055221
CREATED:20220227T201738Z
LAST-MODIFIED:20220227T201738Z
UID:2705-1658134800-1658509200@zenademocraticschool.org
SUMMARY:Wayfinder Experience Summer Camp Week 1
DESCRIPTION:Wayfinder Experience Summer Camp
URL:https://zenademocraticschool.org/event/wayfinder-experience-summer-camp-week-1/
LOCATION:Hudson Valley Sudbury School\, 84 Zena Road\, Kingston\, NY
END:VEVENT
BEGIN:VEVENT
DTSTART;VALUE=DATE:20220617
DTEND;VALUE=DATE:20220618
DTSTAMP:20260424T055221
CREATED:20210827T062824Z
LAST-MODIFIED:20210827T062824Z
UID:2378-1655424000-1655510399@zenademocraticschool.org
SUMMARY:Last Day of School
DESCRIPTION:Last Day of School
URL:https://zenademocraticschool.org/event/last-day-of-school-3/
LOCATION:NY
END:VEVENT
BEGIN:VEVENT
DTSTART;TZID=UTC:20220611T170000
DTEND;TZID=UTC:20220611T220000
DTSTAMP:20260424T055221
CREATED:20210827T065036Z
LAST-MODIFIED:20220330T211930Z
UID:2399-1654966800-1654984800@zenademocraticschool.org
SUMMARY:Graduation & End of Year Party
DESCRIPTION:HVSS Graduation and End of the Year Party. Rain date June 12
URL:https://zenademocraticschool.org/event/graduation-end-of-year-party/
LOCATION:NY
END:VEVENT
BEGIN:VEVENT
DTSTART;VALUE=DATE:20220530
DTEND;VALUE=DATE:20220531
DTSTAMP:20260424T055221
CREATED:20210827T062753Z
LAST-MODIFIED:20210827T062753Z
UID:2376-1653868800-1653955199@zenademocraticschool.org
SUMMARY:Memorial Day
DESCRIPTION:No School
URL:https://zenademocraticschool.org/event/memorial-day-3/
LOCATION:NY
END:VEVENT
END:VCALENDAR