BEGIN:VCALENDAR
VERSION:2.0
PRODID:-//Zena Democratic School - ECPv6.15.3//NONSGML v1.0//EN
CALSCALE:GREGORIAN
METHOD:PUBLISH
X-WR-CALNAME:Zena Democratic School
X-ORIGINAL-URL:https://zenademocraticschool.org
X-WR-CALDESC:Events for Zena Democratic School
REFRESH-INTERVAL;VALUE=DURATION:PT1H
X-Robots-Tag:noindex
X-PUBLISHED-TTL:PT1H
BEGIN:VTIMEZONE
TZID:UTC
BEGIN:STANDARD
TZOFFSETFROM:+0000
TZOFFSETTO:+0000
TZNAME:UTC
DTSTART:20210101T000000
END:STANDARD
END:VTIMEZONE
BEGIN:VTIMEZONE
TZID:America/Halifax
BEGIN:DAYLIGHT
TZOFFSETFROM:-0400
TZOFFSETTO:-0300
TZNAME:ADT
DTSTART:20220313T060000
END:DAYLIGHT
BEGIN:STANDARD
TZOFFSETFROM:-0300
TZOFFSETTO:-0400
TZNAME:AST
DTSTART:20221106T050000
END:STANDARD
END:VTIMEZONE
BEGIN:VEVENT
DTSTART;VALUE=DATE:20220418
DTEND;VALUE=DATE:20220423
DTSTAMP:20260424T081646
CREATED:20210827T062718Z
LAST-MODIFIED:20210827T062718Z
UID:2374-1650240000-1650671999@zenademocraticschool.org
SUMMARY:Spring Break
DESCRIPTION:No School
URL:https://zenademocraticschool.org/event/spring-break-3/
LOCATION:NY
END:VEVENT
BEGIN:VEVENT
DTSTART;TZID=America/Halifax:20220413T160000
DTEND;TZID=America/Halifax:20220413T190000
DTSTAMP:20260424T081646
CREATED:20220406T153438Z
LAST-MODIFIED:20220406T153438Z
UID:2765-1649865600-1649876400@zenademocraticschool.org
SUMMARY:Finding Nemo
DESCRIPTION:Three of our students have pooled money together to host a free movie night. They are showing Finding Nemo and providing snacks (bring your own dinner if desired). 
URL:https://zenademocraticschool.org/event/finding-nemo/
LOCATION:Hudson Valley Sudbury School\, 84 Zena Road\, Kingston\, NY
END:VEVENT
BEGIN:VEVENT
DTSTART;TZID=UTC:20220409T130000
DTEND;TZID=UTC:20220409T160000
DTSTAMP:20260424T081646
CREATED:20211123T215644Z
LAST-MODIFIED:20211123T215644Z
UID:2604-1649509200-1649520000@zenademocraticschool.org
SUMMARY:Open House
DESCRIPTION:HVSS Open Houses are the best way to learn more about the school. Students\, parents\, alumni\, and staff members will be in attendance to give tours of the campus\, discuss the school\, and answer questions. Panel discussion at 2:00pm. \nNo RSVP needed\, and all are welcome.
URL:https://zenademocraticschool.org/event/open-house-7/
LOCATION:Hudson Valley Sudbury School\, 84 Zena Road\, Kingston\, NY
CATEGORIES:Open House
END:VEVENT
BEGIN:VEVENT
DTSTART;TZID=America/Halifax:20220408T180000
DTEND;TZID=America/Halifax:20220408T210000
DTSTAMP:20260424T081646
CREATED:20220406T153159Z
LAST-MODIFIED:20220406T153159Z
UID:2763-1649440800-1649451600@zenademocraticschool.org
SUMMARY:Spaghetti Dinner & Ratatouille Movie Fundraiser
DESCRIPTION:Join our graduate cohort\, fundraising for their trip to New Orleans with a Spaghetti Dinner and viewing of the movie Ratatouille. $20. Tickets available at the school. 
URL:https://zenademocraticschool.org/event/spaghetti-dinner-ratatouille-movie-fundraiser/
LOCATION:Hudson Valley Sudbury School\, 84 Zena Road\, Kingston\, NY
END:VEVENT
BEGIN:VEVENT
DTSTART;TZID=America/Halifax:20220401T170000
DTEND;TZID=America/Halifax:20220401T190000
DTSTAMP:20260424T081646
CREATED:20220323T191034Z
LAST-MODIFIED:20220323T191034Z
UID:2732-1648832400-1648839600@zenademocraticschool.org
SUMMARY:Roller Skating at Wood n Wheel
DESCRIPTION:Join us at Wood n Wheel for roller skating/blading\, laser tag\, games\, arm/face painting and pizza.  \nGet your tickets HERE
URL:https://zenademocraticschool.org/event/roller-skating-at-wood-n-wheel/
LOCATION:Wood’n Wheel\, 365 Route 9W\, Ulster Park\, NY\, 12487\, United States
END:VEVENT
BEGIN:VEVENT
DTSTART;TZID=UTC:20220311T170000
DTEND;TZID=UTC:20220311T190000
DTSTAMP:20260424T081646
CREATED:20210827T064931Z
LAST-MODIFIED:20210827T064931Z
UID:2397-1647018000-1647025200@zenademocraticschool.org
SUMMARY:Winter Fire
DESCRIPTION:A winter fire gathering for HVSS families and friends.
URL:https://zenademocraticschool.org/event/winter-fire/
LOCATION:NY
END:VEVENT
BEGIN:VEVENT
DTSTART;VALUE=DATE:20220221
DTEND;VALUE=DATE:20220226
DTSTAMP:20260424T081646
CREATED:20210827T062641Z
LAST-MODIFIED:20210827T062641Z
UID:2372-1645401600-1645833599@zenademocraticschool.org
SUMMARY:February Break
DESCRIPTION:No School
URL:https://zenademocraticschool.org/event/february-break-3/
LOCATION:NY
END:VEVENT
BEGIN:VEVENT
DTSTART;TZID=UTC:20220211T180000
DTEND;TZID=UTC:20220211T210000
DTSTAMP:20260424T081646
CREATED:20210827T064836Z
LAST-MODIFIED:20210827T064836Z
UID:2395-1644602400-1644613200@zenademocraticschool.org
SUMMARY:Valentine's Ball
DESCRIPTION:Valentine’s Dance open to HVSS Families and friends.
URL:https://zenademocraticschool.org/event/valentines-ball-2/
LOCATION:NY
END:VEVENT
BEGIN:VEVENT
DTSTART;TZID=UTC:20220207T190000
DTEND;TZID=UTC:20220207T210000
DTSTAMP:20260424T081646
CREATED:20210827T064712Z
LAST-MODIFIED:20210827T064712Z
UID:2393-1644260400-1644267600@zenademocraticschool.org
SUMMARY:Annual Assembly Meeting
DESCRIPTION:Annual Meeting of the HVSS Assembly
URL:https://zenademocraticschool.org/event/annual-assembly-meeting/
LOCATION:NY
END:VEVENT
BEGIN:VEVENT
DTSTART;VALUE=DATE:20220117
DTEND;VALUE=DATE:20220118
DTSTAMP:20260424T081646
CREATED:20210827T062604Z
LAST-MODIFIED:20210827T062604Z
UID:2370-1642377600-1642463999@zenademocraticschool.org
SUMMARY:MLK Day
DESCRIPTION:No School
URL:https://zenademocraticschool.org/event/mlk-day/
LOCATION:NY
END:VEVENT
BEGIN:VEVENT
DTSTART;TZID=UTC:20220107T080000
DTEND;TZID=UTC:20220107T170000
DTSTAMP:20260424T081646
CREATED:20220107T161632Z
LAST-MODIFIED:20220107T161632Z
UID:2624-1641542400-1641574800@zenademocraticschool.org
SUMMARY:Weather Closing Friday\, January 7
DESCRIPTION:SCHOOL IS CLOSED TODAY\, FRIDAY JANUARY 7\, DUE TO WEATHER.  ENJOY SNOW!
URL:https://zenademocraticschool.org/event/weather-closing-friday-january-7/
LOCATION:NY
END:VEVENT
BEGIN:VEVENT
DTSTART;VALUE=DATE:20211220
DTEND;VALUE=DATE:20220101
DTSTAMP:20260424T081646
CREATED:20210827T062527Z
LAST-MODIFIED:20210827T062527Z
UID:2368-1639958400-1640995199@zenademocraticschool.org
SUMMARY:Winter Break
DESCRIPTION:No School
URL:https://zenademocraticschool.org/event/winter-break-3/
LOCATION:NY
END:VEVENT
BEGIN:VEVENT
DTSTART;VALUE=DATE:20211124
DTEND;VALUE=DATE:20211127
DTSTAMP:20260424T081646
CREATED:20210827T062446Z
LAST-MODIFIED:20210827T062446Z
UID:2366-1637712000-1637971199@zenademocraticschool.org
SUMMARY:Thanksgiving Break
DESCRIPTION:No School
URL:https://zenademocraticschool.org/event/thanksgiving-break-3/
LOCATION:NY
END:VEVENT
BEGIN:VEVENT
DTSTART;TZID=UTC:20211121T180000
DTEND;TZID=UTC:20211121T193000
DTSTAMP:20260424T081646
CREATED:20211110T072120Z
LAST-MODIFIED:20211110T072120Z
UID:2567-1637517600-1637523000@zenademocraticschool.org
SUMMARY:Eurydice Performance
DESCRIPTION:HVSS Players Present Eurydice $12 tickets at the door. Outdoor performance.
URL:https://zenademocraticschool.org/event/eurydice-performance-2/
LOCATION:NY
END:VEVENT
BEGIN:VEVENT
DTSTART;TZID=UTC:20211119T180000
DTEND;TZID=UTC:20211119T193000
DTSTAMP:20260424T081646
CREATED:20211110T072035Z
LAST-MODIFIED:20211110T072035Z
UID:2565-1637344800-1637350200@zenademocraticschool.org
SUMMARY:Eurydice Performance
DESCRIPTION:HVSS Players Present Eurydice $12 tickets at the door. Outdoor performance.
URL:https://zenademocraticschool.org/event/eurydice-performance/
LOCATION:Hudson Valley Sudbury School\, 84 Zena Road\, Kingston\, NY
END:VEVENT
BEGIN:VEVENT
DTSTART;TZID=UTC:20211119T170000
DTEND;TZID=UTC:20211119T210000
DTSTAMP:20260424T081646
CREATED:20211110T072220Z
LAST-MODIFIED:20211110T072220Z
UID:2569-1637341200-1637355600@zenademocraticschool.org
SUMMARY:HVSS Family Potluck
DESCRIPTION:Potluck event for HVSS Families
URL:https://zenademocraticschool.org/event/hvss-family-potluck/
LOCATION:NY
END:VEVENT
BEGIN:VEVENT
DTSTART;TZID=UTC:20211117T183000
DTEND;TZID=UTC:20211117T203000
DTSTAMP:20260424T081646
CREATED:20211004T051431Z
LAST-MODIFIED:20211011T185629Z
UID:2515-1637173800-1637181000@zenademocraticschool.org
SUMMARY:Watercolor Class 6
DESCRIPTION:Details ›
URL:https://zenademocraticschool.org/event/watercolor-class-6-2/
LOCATION:NY
END:VEVENT
BEGIN:VEVENT
DTSTART;VALUE=DATE:20211111
DTEND;VALUE=DATE:20211112
DTSTAMP:20260424T081646
CREATED:20210827T062140Z
LAST-MODIFIED:20210827T062140Z
UID:2364-1636588800-1636675199@zenademocraticschool.org
SUMMARY:Veterans Day
DESCRIPTION:No School
URL:https://zenademocraticschool.org/event/veterans-day-2/
LOCATION:NY
END:VEVENT
BEGIN:VEVENT
DTSTART;TZID=UTC:20211110T183000
DTEND;TZID=UTC:20211110T203000
DTSTAMP:20260424T081646
CREATED:20211004T051353Z
LAST-MODIFIED:20211011T185559Z
UID:2513-1636569000-1636576200@zenademocraticschool.org
SUMMARY:Watercolor Class 5
DESCRIPTION:Details ›
URL:https://zenademocraticschool.org/event/watercolor-class-6/
LOCATION:NY
END:VEVENT
BEGIN:VEVENT
DTSTART;TZID=UTC:20211103T183000
DTEND;TZID=UTC:20211103T203000
DTSTAMP:20260424T081646
CREATED:20211004T051301Z
LAST-MODIFIED:20211011T185706Z
UID:2511-1635964200-1635971400@zenademocraticschool.org
SUMMARY:Watercolor Class 4
DESCRIPTION:Details ›
URL:https://zenademocraticschool.org/event/watercolor-class-4/
LOCATION:NY
END:VEVENT
BEGIN:VEVENT
DTSTART;TZID=UTC:20211027T183000
DTEND;TZID=UTC:20211027T203000
DTSTAMP:20260424T081646
CREATED:20211004T051228Z
LAST-MODIFIED:20211011T185742Z
UID:2509-1635359400-1635366600@zenademocraticschool.org
SUMMARY:Watercolor Class 3
DESCRIPTION:Details ›
URL:https://zenademocraticschool.org/event/watercolor-class-3/
LOCATION:NY
END:VEVENT
BEGIN:VEVENT
DTSTART;TZID=UTC:20211020T183000
DTEND;TZID=UTC:20211020T203000
DTSTAMP:20260424T081646
CREATED:20211003T044125Z
LAST-MODIFIED:20211011T185832Z
UID:2491-1634754600-1634761800@zenademocraticschool.org
SUMMARY:Watercolor Class 2
DESCRIPTION:Details ›
URL:https://zenademocraticschool.org/event/watercolor-class-2/
LOCATION:NY
END:VEVENT
BEGIN:VEVENT
DTSTART;TZID=UTC:20211016T190000
DTEND;TZID=UTC:20211016T210000
DTSTAMP:20260424T081646
CREATED:20210827T064407Z
LAST-MODIFIED:20210827T064407Z
UID:2389-1634410800-1634418000@zenademocraticschool.org
SUMMARY:HVSS Theatre Coop presents Eurydice
DESCRIPTION:The HVSS Theatre Cooperative production of Eurydice\, performed outside. This performance is open to the public.
URL:https://zenademocraticschool.org/event/hvss-theatre-coop-presents-eurydice-2/
LOCATION:NY
END:VEVENT
BEGIN:VEVENT
DTSTART;TZID=UTC:20211015T190000
DTEND;TZID=UTC:20211015T210000
DTSTAMP:20260424T081646
CREATED:20210827T064316Z
LAST-MODIFIED:20211004T065322Z
UID:2387-1634324400-1634331600@zenademocraticschool.org
SUMMARY:HVSS Theatre Coop presents Eurydice
DESCRIPTION:The HVSS Theatre Cooperative production of Eurydice\, performed outside. This performance is open to friends and family. Tickets are free as it will be sponsored by the Community Clerk.
URL:https://zenademocraticschool.org/event/theatre-coop-presents-eurydice/
LOCATION:NY
END:VEVENT
BEGIN:VEVENT
DTSTART;TZID=UTC:20211015T170000
DTEND;TZID=UTC:20211015T220000
DTSTAMP:20260424T081646
CREATED:20210827T064548Z
LAST-MODIFIED:20210827T064548Z
UID:2391-1634317200-1634335200@zenademocraticschool.org
SUMMARY:Fall Potluck
DESCRIPTION:Open to HVSS Families and Friends. 5pm Potluck\, 7pm Eurydice\, 8:30pm Bonfire
URL:https://zenademocraticschool.org/event/fall-potluck/
LOCATION:NY
END:VEVENT
BEGIN:VEVENT
DTSTART;TZID=UTC:20211014T190000
DTEND;TZID=UTC:20211014T210000
DTSTAMP:20260424T081646
CREATED:20210827T064106Z
LAST-MODIFIED:20210827T064106Z
UID:2385-1634238000-1634245200@zenademocraticschool.org
SUMMARY:HVSS Theatre Coop presents Eurydice
DESCRIPTION:The HVSS Theatre Cooperative production of Eurydice\, performed outside. This performance is open to the public.
URL:https://zenademocraticschool.org/event/hvss-theatre-coop-presents-eurydice/
LOCATION:NY
END:VEVENT
BEGIN:VEVENT
DTSTART;TZID=UTC:20211013T183000
DTEND;TZID=UTC:20211013T203000
DTSTAMP:20260424T081646
CREATED:20211003T044040Z
LAST-MODIFIED:20211011T185905Z
UID:2489-1634149800-1634157000@zenademocraticschool.org
SUMMARY:Watercolor Class 1
DESCRIPTION:Details ›
URL:https://zenademocraticschool.org/event/watercolor-class-1/
LOCATION:NY
END:VEVENT
BEGIN:VEVENT
DTSTART;VALUE=DATE:20211011
DTEND;VALUE=DATE:20211012
DTSTAMP:20260424T081646
CREATED:20210827T062102Z
LAST-MODIFIED:20210827T062102Z
UID:2361-1633910400-1633996799@zenademocraticschool.org
SUMMARY:Indigenous Peoples Day
DESCRIPTION:No School
URL:https://zenademocraticschool.org/event/indigenous-peoples-day-2/
LOCATION:NY
END:VEVENT
BEGIN:VEVENT
DTSTART;TZID=UTC:20211002T140000
DTEND;TZID=UTC:20211002T170000
DTSTAMP:20260424T081646
CREATED:20210912T034037Z
LAST-MODIFIED:20210912T034037Z
UID:2425-1633183200-1633194000@zenademocraticschool.org
SUMMARY:Open House
DESCRIPTION:Join us for tours of the school and campus & a 3pm Panel Discussion.
URL:https://zenademocraticschool.org/event/open-house-3/
LOCATION:NY
CATEGORIES:Open House
END:VEVENT
BEGIN:VEVENT
DTSTART;TZID=UTC:20210924T183000
DTEND;TZID=UTC:20210924T210000
DTSTAMP:20260424T081646
CREATED:20210827T063835Z
LAST-MODIFIED:20210827T063835Z
UID:2383-1632508200-1632517200@zenademocraticschool.org
SUMMARY:Spaghetti Dinner & an Outdoor Movie
DESCRIPTION:The HVSS Fundraising Committee invites you to join us for a fun Spaghetti Dinner and an Outdoor Movie. $20 per person. Rain date September 25th.
URL:https://zenademocraticschool.org/event/spaghetti-dinner-an-outdoor-movie/
LOCATION:NY
END:VEVENT
END:VCALENDAR