BEGIN:VCALENDAR
VERSION:2.0
PRODID:-//Zena Democratic School - ECPv6.15.3//NONSGML v1.0//EN
CALSCALE:GREGORIAN
METHOD:PUBLISH
X-WR-CALNAME:Zena Democratic School
X-ORIGINAL-URL:https://zenademocraticschool.org
X-WR-CALDESC:Events for Zena Democratic School
REFRESH-INTERVAL;VALUE=DURATION:PT1H
X-Robots-Tag:noindex
X-PUBLISHED-TTL:PT1H
BEGIN:VTIMEZONE
TZID:UTC
BEGIN:STANDARD
TZOFFSETFROM:+0000
TZOFFSETTO:+0000
TZNAME:UTC
DTSTART:20190101T000000
END:STANDARD
END:VTIMEZONE
BEGIN:VEVENT
DTSTART;TZID=UTC:20200507T190000
DTEND;TZID=UTC:20200507T203000
DTSTAMP:20260425T114938
CREATED:20200501T075631Z
LAST-MODIFIED:20200502T065610Z
UID:1709-1588878000-1588883400@zenademocraticschool.org
SUMMARY:Voices of the Future
DESCRIPTION:A Series of Hudson Valley Sudbury School Alumni Panels \nMay 7\, May 16\, & May 21 at 7pm \nJoin us on Zoom for stories of life at HVSS\, life after graduating and a Q&A with 11 different graduates. \n[vc_btn title=”Register for May 7 Zoom Alumni Panel” shape=”square” color=”pink” size=”lg” align=”left” link=”url:https%3A%2F%2Fus02web.zoom.us%2Fwebinar%2Fregister%2FWN_UNloXSG8SM-nPj-iMqGo8Q||target:%20_blank|”]
URL:https://zenademocraticschool.org/event/voices-of-the-future/
END:VEVENT
BEGIN:VEVENT
DTSTART;VALUE=DATE:20200502
DTEND;VALUE=DATE:20200503
DTSTAMP:20260425T114938
CREATED:20200214T002056Z
LAST-MODIFIED:20200214T003629Z
UID:1068-1588377600-1588463999@zenademocraticschool.org
SUMMARY:Open House
DESCRIPTION:HVSS Open Houses are the best way to learn more about the school.  Students\, parents\, alumni\, and staff members will be in attendance to give tours of the campus\, discuss the school\, and answer questions.  Panel discussion at 2:00. \n2019-2020 Open House dates are: March 7 and May 2\, 2020. \nThere is no need to RSVP.
URL:https://zenademocraticschool.org/event/open-house-5/
CATEGORIES:Academic Calendar
ATTACH;FMTTYPE=image/jpeg:https://zenademocraticschool.org/wp-content/uploads/2019/11/first-day-of-school.jpg
END:VEVENT
BEGIN:VEVENT
DTSTART;TZID=UTC:20200501T103000
DTEND;TZID=UTC:20200501T123000
DTSTAMP:20260425T114938
CREATED:20200214T002336Z
LAST-MODIFIED:20200214T002336Z
UID:1070-1588329000-1588336200@zenademocraticschool.org
SUMMARY:Play Day
DESCRIPTION:
URL:https://zenademocraticschool.org/event/play-day-14/
CATEGORIES:Academic Calendar
ATTACH;FMTTYPE=image/jpeg:https://zenademocraticschool.org/wp-content/uploads/2020/02/play-day.jpg
END:VEVENT
BEGIN:VEVENT
DTSTART;TZID=UTC:20200424T103000
DTEND;TZID=UTC:20200424T103000
DTSTAMP:20260425T114938
CREATED:20200214T001235Z
LAST-MODIFIED:20200214T001235Z
UID:1057-1587724200-1587724200@zenademocraticschool.org
SUMMARY:Play Day
DESCRIPTION:
URL:https://zenademocraticschool.org/event/play-day-13/
CATEGORIES:Academic Calendar
ATTACH;FMTTYPE=image/jpeg:https://zenademocraticschool.org/wp-content/uploads/2020/02/play-day.jpg
END:VEVENT
BEGIN:VEVENT
DTSTART;TZID=UTC:20200418T110000
DTEND;TZID=UTC:20200418T210000
DTSTAMP:20260425T114938
CREATED:20200220T101410Z
LAST-MODIFIED:20200220T101410Z
UID:1238-1587207600-1587243600@zenademocraticschool.org
SUMMARY:Wayfinder Experience Living Legends
DESCRIPTION:
URL:https://zenademocraticschool.org/event/wayfinder-experience-living-legends-2/
CATEGORIES:Academic Calendar
ATTACH;FMTTYPE=image/png:https://zenademocraticschool.org/wp-content/uploads/2020/02/wayfinder-logo.png
END:VEVENT
BEGIN:VEVENT
DTSTART;TZID=UTC:20200417T103000
DTEND;TZID=UTC:20200417T123000
DTSTAMP:20260425T114938
CREATED:20200214T001207Z
LAST-MODIFIED:20200214T001207Z
UID:1055-1587119400-1587126600@zenademocraticschool.org
SUMMARY:Play Day
DESCRIPTION:
URL:https://zenademocraticschool.org/event/play-day-12/
CATEGORIES:Academic Calendar
ATTACH;FMTTYPE=image/jpeg:https://zenademocraticschool.org/wp-content/uploads/2020/02/play-day.jpg
END:VEVENT
BEGIN:VEVENT
DTSTART;VALUE=DATE:20200406
DTEND;VALUE=DATE:20200414
DTSTAMP:20260425T114938
CREATED:20200214T001500Z
LAST-MODIFIED:20200214T001500Z
UID:1059-1586131200-1586822399@zenademocraticschool.org
SUMMARY:Spring Break
DESCRIPTION:
URL:https://zenademocraticschool.org/event/spring-break/
CATEGORIES:Holiday
ATTACH;FMTTYPE=image/jpeg:https://zenademocraticschool.org/wp-content/uploads/2020/02/spring-break.jpg
END:VEVENT
BEGIN:VEVENT
DTSTART;TZID=UTC:20200403T103000
DTEND;TZID=UTC:20200403T123000
DTSTAMP:20260425T114938
CREATED:20200214T001132Z
LAST-MODIFIED:20200214T001132Z
UID:1053-1585909800-1585917000@zenademocraticschool.org
SUMMARY:Play Day
DESCRIPTION:
URL:https://zenademocraticschool.org/event/play-day-11/
CATEGORIES:Academic Calendar
ATTACH;FMTTYPE=image/jpeg:https://zenademocraticschool.org/wp-content/uploads/2020/02/play-day.jpg
END:VEVENT
BEGIN:VEVENT
DTSTART;TZID=UTC:20200329T150000
DTEND;TZID=UTC:20200329T170000
DTSTAMP:20260425T114938
CREATED:20200220T101239Z
LAST-MODIFIED:20200220T101239Z
UID:1234-1585494000-1585501200@zenademocraticschool.org
SUMMARY:HVSS Theater Coop Presents Eurydice at ASK
DESCRIPTION:
URL:https://zenademocraticschool.org/event/hvss-theater-coop-presents-eurydice-at-ask-2/
CATEGORIES:Academic Calendar
ATTACH;FMTTYPE=image/jpeg:https://zenademocraticschool.org/wp-content/uploads/2020/02/eurydice.jpg
END:VEVENT
BEGIN:VEVENT
DTSTART;TZID=UTC:20200328T190000
DTEND;TZID=UTC:20200328T210000
DTSTAMP:20260425T114938
CREATED:20200220T101339Z
LAST-MODIFIED:20200220T101339Z
UID:1236-1585422000-1585429200@zenademocraticschool.org
SUMMARY:HVSS Theater Coop Presents Eurydice at ASK
DESCRIPTION:
URL:https://zenademocraticschool.org/event/hvss-theater-coop-presents-eurydice-at-ask-3/
CATEGORIES:Academic Calendar
ATTACH;FMTTYPE=image/jpeg:https://zenademocraticschool.org/wp-content/uploads/2020/02/eurydice.jpg
END:VEVENT
BEGIN:VEVENT
DTSTART;TZID=UTC:20200327T190000
DTEND;TZID=UTC:20200327T210000
DTSTAMP:20260425T114938
CREATED:20200220T101152Z
LAST-MODIFIED:20200220T101554Z
UID:1232-1585335600-1585342800@zenademocraticschool.org
SUMMARY:HVSS Theater Coop Presents Eurydice at ASK
DESCRIPTION:
URL:https://zenademocraticschool.org/event/hvss-theater-coop-presents-eurydice-at-ask/
CATEGORIES:Academic Calendar
ATTACH;FMTTYPE=image/jpeg:https://zenademocraticschool.org/wp-content/uploads/2020/02/eurydice.jpg
END:VEVENT
BEGIN:VEVENT
DTSTART;TZID=UTC:20200327T103000
DTEND;TZID=UTC:20200327T123000
DTSTAMP:20260425T114938
CREATED:20200214T001042Z
LAST-MODIFIED:20200214T001042Z
UID:1051-1585305000-1585312200@zenademocraticschool.org
SUMMARY:Play Day
DESCRIPTION:
URL:https://zenademocraticschool.org/event/play-day-10/
CATEGORIES:Academic Calendar
ATTACH;FMTTYPE=image/jpeg:https://zenademocraticschool.org/wp-content/uploads/2020/02/play-day.jpg
END:VEVENT
BEGIN:VEVENT
DTSTART;TZID=UTC:20200321T100000
DTEND;TZID=UTC:20200321T230000
DTSTAMP:20260425T114938
CREATED:20200220T101111Z
LAST-MODIFIED:20200220T101111Z
UID:1230-1584784800-1584831600@zenademocraticschool.org
SUMMARY:Wayfinder Experience Frontier Adventures 
DESCRIPTION:
URL:https://zenademocraticschool.org/event/wayfinder-experience-frontier-adventures/
CATEGORIES:Academic Calendar
ATTACH;FMTTYPE=image/png:https://zenademocraticschool.org/wp-content/uploads/2020/02/wayfinder-logo.png
END:VEVENT
BEGIN:VEVENT
DTSTART;TZID=UTC:20200320T103000
DTEND;TZID=UTC:20200320T123000
DTSTAMP:20260425T114938
CREATED:20200214T001008Z
LAST-MODIFIED:20200214T001008Z
UID:1049-1584700200-1584707400@zenademocraticschool.org
SUMMARY:Play Day
DESCRIPTION:
URL:https://zenademocraticschool.org/event/play-day-9/
CATEGORIES:Academic Calendar
ATTACH;FMTTYPE=image/jpeg:https://zenademocraticschool.org/wp-content/uploads/2020/02/play-day.jpg
END:VEVENT
BEGIN:VEVENT
DTSTART;TZID=UTC:20200313T103000
DTEND;TZID=UTC:20200313T123000
DTSTAMP:20260425T114938
CREATED:20200214T000936Z
LAST-MODIFIED:20200214T000936Z
UID:1047-1584095400-1584102600@zenademocraticschool.org
SUMMARY:Play Day
DESCRIPTION:
URL:https://zenademocraticschool.org/event/play-day-8/
CATEGORIES:Academic Calendar
ATTACH;FMTTYPE=image/jpeg:https://zenademocraticschool.org/wp-content/uploads/2020/02/play-day.jpg
END:VEVENT
BEGIN:VEVENT
DTSTART;VALUE=DATE:20200307
DTEND;VALUE=DATE:20200308
DTSTAMP:20260425T114938
CREATED:20200214T002006Z
LAST-MODIFIED:20200214T003654Z
UID:1065-1583539200-1583625599@zenademocraticschool.org
SUMMARY:Open House
DESCRIPTION:HVSS Open Houses are the best way to learn more about the school.  Students\, parents\, alumni\, and staff members will be in attendance to give tours of the campus\, discuss the school\, and answer questions.  Panel discussion at 2:00. \n2019-2020 Open House dates are: March 7 and May 2\, 2020. \nThere is no need to RSVP.
URL:https://zenademocraticschool.org/event/open-house-4/
CATEGORIES:Open House
ATTACH;FMTTYPE=image/jpeg:https://zenademocraticschool.org/wp-content/uploads/2019/11/first-day-of-school.jpg
END:VEVENT
BEGIN:VEVENT
DTSTART;TZID=UTC:20200306T103000
DTEND;TZID=UTC:20200306T123000
DTSTAMP:20260425T114938
CREATED:20200214T000906Z
LAST-MODIFIED:20200214T000906Z
UID:1045-1583490600-1583497800@zenademocraticschool.org
SUMMARY:Play Day
DESCRIPTION:
URL:https://zenademocraticschool.org/event/play-day-7/
CATEGORIES:Academic Calendar
ATTACH;FMTTYPE=image/jpeg:https://zenademocraticschool.org/wp-content/uploads/2020/02/play-day.jpg
END:VEVENT
BEGIN:VEVENT
DTSTART;TZID=UTC:20200228T103000
DTEND;TZID=UTC:20200228T123000
DTSTAMP:20260425T114938
CREATED:20200214T000818Z
LAST-MODIFIED:20200214T000818Z
UID:1043-1582885800-1582893000@zenademocraticschool.org
SUMMARY:Play Day
DESCRIPTION:
URL:https://zenademocraticschool.org/event/play-day-6/
CATEGORIES:Academic Calendar
ATTACH;FMTTYPE=image/jpeg:https://zenademocraticschool.org/wp-content/uploads/2020/02/play-day.jpg
END:VEVENT
BEGIN:VEVENT
DTSTART;TZID=UTC:20200222T110000
DTEND;TZID=UTC:20200222T210000
DTSTAMP:20260425T114938
CREATED:20200220T101039Z
LAST-MODIFIED:20200227T050036Z
UID:1228-1582369200-1582405200@zenademocraticschool.org
SUMMARY:Wayfinder Experience Living Legends
DESCRIPTION:
URL:https://zenademocraticschool.org/event/wayfinder-experience-living-legends/
CATEGORIES:Academic Calendar
ATTACH;FMTTYPE=image/png:https://zenademocraticschool.org/wp-content/uploads/2020/02/wayfinder-logo.png
END:VEVENT
BEGIN:VEVENT
DTSTART;VALUE=DATE:20200217
DTEND;VALUE=DATE:20200222
DTSTAMP:20260425T114938
CREATED:20200214T000737Z
LAST-MODIFIED:20200214T000737Z
UID:1041-1581897600-1582329599@zenademocraticschool.org
SUMMARY:February Break
DESCRIPTION:
URL:https://zenademocraticschool.org/event/february-break/
CATEGORIES:Holiday
ATTACH;FMTTYPE=image/jpeg:https://zenademocraticschool.org/wp-content/uploads/2019/11/winter-cocoa.jpg
END:VEVENT
BEGIN:VEVENT
DTSTART;TZID=UTC:20200214T103000
DTEND;TZID=UTC:20200214T123000
DTSTAMP:20260425T114938
CREATED:20200214T000446Z
LAST-MODIFIED:20200227T045832Z
UID:1037-1581676200-1581683400@zenademocraticschool.org
SUMMARY:Play Day
DESCRIPTION:
URL:https://zenademocraticschool.org/event/play-day-5/
CATEGORIES:Academic Calendar
ATTACH;FMTTYPE=image/jpeg:https://zenademocraticschool.org/wp-content/uploads/2020/02/play-day.jpg
END:VEVENT
BEGIN:VEVENT
DTSTART;VALUE=DATE:20200214
DTEND;VALUE=DATE:20200215
DTSTAMP:20260425T114938
CREATED:20200214T000552Z
LAST-MODIFIED:20200214T000552Z
UID:1039-1581638400-1581724799@zenademocraticschool.org
SUMMARY:Valentine's Ball
DESCRIPTION:
URL:https://zenademocraticschool.org/event/valentines-ball/
ATTACH;FMTTYPE=image/jpeg:https://zenademocraticschool.org/wp-content/uploads/2020/01/Valentines-Ball-2020.jpg
END:VEVENT
BEGIN:VEVENT
DTSTART;TZID=UTC:20200207T103000
DTEND;TZID=UTC:20200207T123000
DTSTAMP:20260425T114938
CREATED:20200214T000409Z
LAST-MODIFIED:20200214T000409Z
UID:1035-1581071400-1581078600@zenademocraticschool.org
SUMMARY:Play Day
DESCRIPTION:
URL:https://zenademocraticschool.org/event/play-day-4/
CATEGORIES:Academic Calendar
ATTACH;FMTTYPE=image/jpeg:https://zenademocraticschool.org/wp-content/uploads/2020/02/play-day.jpg
END:VEVENT
BEGIN:VEVENT
DTSTART;VALUE=DATE:20200203
DTEND;VALUE=DATE:20200204
DTSTAMP:20260425T114938
CREATED:20200214T000329Z
LAST-MODIFIED:20200214T000329Z
UID:1032-1580688000-1580774399@zenademocraticschool.org
SUMMARY:Assembly Meeting
DESCRIPTION:
URL:https://zenademocraticschool.org/event/assembly-meeting/
CATEGORIES:Academic Calendar
ATTACH;FMTTYPE=image/jpeg:https://zenademocraticschool.org/wp-content/uploads/2020/02/assembly-meeting.jpg
END:VEVENT
BEGIN:VEVENT
DTSTART;TZID=UTC:20200131T103000
DTEND;TZID=UTC:20200131T123000
DTSTAMP:20260425T114938
CREATED:20200213T235950Z
LAST-MODIFIED:20200214T000242Z
UID:1030-1580466600-1580473800@zenademocraticschool.org
SUMMARY:Play Day
DESCRIPTION:
URL:https://zenademocraticschool.org/event/play-day-3/
CATEGORIES:Academic Calendar
ATTACH;FMTTYPE=image/jpeg:https://zenademocraticschool.org/wp-content/uploads/2020/02/play-day.jpg
END:VEVENT
BEGIN:VEVENT
DTSTART;VALUE=DATE:20200120
DTEND;VALUE=DATE:20200121
DTSTAMP:20260425T114938
CREATED:20191119T031523Z
LAST-MODIFIED:20191119T032245Z
UID:375-1579478400-1579564799@zenademocraticschool.org
SUMMARY:Martin Luther King Jr. Day
DESCRIPTION:Martin Luther King Jr. (January 15\, 1929 – April 4\, 1968) was an American Baptist minister and activist who was a leader in the African-American Civil Rights Movement. He is best known for his role in the advancement of civil rights using nonviolent civil disobedience based on his Christian beliefs. \nKing became a civil rights activist early in his career. He led the 1955 Montgomery bus boycott and helped found the Southern Christian Leadership Conference (SCLC) in 1957\, serving as its first president. With the SCLC\, King led an unsuccessful 1962 struggle against segregation in Albany\, Georgia (the Albany Movement)\, and helped organize the 1963 nonviolent protests in Birmingham\, Alabama. King also helped to organize the 1963 March on Washington\, where he delivered his famous “I Have a Dream” speech. There\, he established his reputation as one of the greatest orators in American history. \nOn October 14\, 1964\, King received the Nobel Peace Prize for combating racial inequality through nonviolent resistance. In 1965\, he helped to organize the Selma to Montgomery marches\, and the following year he and SCLC took the movement north to Chicago to work on segregated housing. In the final years of his life\, King expanded his focus to include opposition towards poverty and the Vietnam War\, alienating many of his liberal allies with a 1967 speech titled “Beyond Vietnam“. \nIn 1968\, King was planning a national occupation of Washington\, D.C.\, to be called the Poor People’s Campaign\, when he was assassinated on April 4 in Memphis\, Tennessee. His death was followed by riots in many U.S. cities. \nKing was posthumously awarded the Presidential Medal of Freedom and the Congressional Gold Medal. Martin Luther King Jr. Day was established as a holiday in numerous cities and states beginning in 1971\, and as a U.S. federal holiday in 1986. Hundreds of streets in the U.S. have been renamed in his honor\, and a county in Washington State was also renamed for him. The Martin Luther King Jr. Memorial on the National Mall in Washington\, D.C.\, was dedicated in 2011.
URL:https://zenademocraticschool.org/event/martin-luther-king-jr-day/
CATEGORIES:Holiday
ATTACH;FMTTYPE=image/jpeg:https://zenademocraticschool.org/wp-content/uploads/2019/11/martin-luther-king-jr.jpg
END:VEVENT
BEGIN:VEVENT
DTSTART;TZID=UTC:20200118T130000
DTEND;TZID=UTC:20200118T160000
DTSTAMP:20260425T114938
CREATED:20191119T031722Z
LAST-MODIFIED:20191119T032428Z
UID:377-1579352400-1579363200@zenademocraticschool.org
SUMMARY:Open House
DESCRIPTION:HVSS Open Houses are the best way to learn more about the school.  Students\, parents\, alumni\, and staff members will be in attendance to give tours of the campus\, discuss the school\, and answer questions.  Panel discussion at 2:00. \n2019-2020 Open House dates are: September 28\, 2019\, November 23\, 2019\, January 18\, 2020\, and May 16\, 2020. \nThere is no need to RSVP.
URL:https://zenademocraticschool.org/event/open-house-2/
LOCATION:Hudson Valley Sudbury School\, 84 Zena Road\, Kingston\, NY
CATEGORIES:Open House
ATTACH;FMTTYPE=image/gif:https://zenademocraticschool.org/wp-content/uploads/2019/11/open-house.gif
END:VEVENT
BEGIN:VEVENT
DTSTART;TZID=UTC:20200117T103000
DTEND;TZID=UTC:20200117T123000
DTSTAMP:20260425T114938
CREATED:20200213T235851Z
LAST-MODIFIED:20200213T235917Z
UID:1028-1579257000-1579264200@zenademocraticschool.org
SUMMARY:Play Day
DESCRIPTION:
URL:https://zenademocraticschool.org/event/play-day-2/
CATEGORIES:Academic Calendar
ATTACH;FMTTYPE=image/jpeg:https://zenademocraticschool.org/wp-content/uploads/2020/02/play-day.jpg
END:VEVENT
BEGIN:VEVENT
DTSTART;TZID=UTC:20200110T103000
DTEND;TZID=UTC:20200110T123000
DTSTAMP:20260425T114938
CREATED:20200213T235726Z
LAST-MODIFIED:20200213T235907Z
UID:1025-1578652200-1578659400@zenademocraticschool.org
SUMMARY:Play Day
DESCRIPTION:
URL:https://zenademocraticschool.org/event/play-day/
CATEGORIES:Academic Calendar
ATTACH;FMTTYPE=image/jpeg:https://zenademocraticschool.org/wp-content/uploads/2020/02/play-day.jpg
END:VEVENT
BEGIN:VEVENT
DTSTART;VALUE=DATE:20191223
DTEND;VALUE=DATE:20200104
DTSTAMP:20260425T114938
CREATED:20191119T030146Z
LAST-MODIFIED:20191119T030926Z
UID:372-1577059200-1578095999@zenademocraticschool.org
SUMMARY:Winter Break
DESCRIPTION:Winter Break! Wow! How fast was that? Crazy\, if you are reading this you are super great. Best Freind material\, so charming\, great at parties\, enviable confidence. You have it all\, now have a great break!
URL:https://zenademocraticschool.org/event/winter-break/
CATEGORIES:Academic Calendar
ATTACH;FMTTYPE=image/jpeg:https://zenademocraticschool.org/wp-content/uploads/2019/11/winter-cocoa.jpg
END:VEVENT
END:VCALENDAR