BEGIN:VCALENDAR
VERSION:2.0
PRODID:-//Zena Democratic School - ECPv6.15.3//NONSGML v1.0//EN
CALSCALE:GREGORIAN
METHOD:PUBLISH
X-WR-CALNAME:Zena Democratic School
X-ORIGINAL-URL:https://zenademocraticschool.org
X-WR-CALDESC:Events for Zena Democratic School
REFRESH-INTERVAL;VALUE=DURATION:PT1H
X-Robots-Tag:noindex
X-PUBLISHED-TTL:PT1H
BEGIN:VTIMEZONE
TZID:America/New_York
BEGIN:DAYLIGHT
TZOFFSETFROM:-0500
TZOFFSETTO:-0400
TZNAME:EDT
DTSTART:20240310T070000
END:DAYLIGHT
BEGIN:STANDARD
TZOFFSETFROM:-0400
TZOFFSETTO:-0500
TZNAME:EST
DTSTART:20241103T060000
END:STANDARD
END:VTIMEZONE
BEGIN:VTIMEZONE
TZID:America/Halifax
BEGIN:DAYLIGHT
TZOFFSETFROM:-0400
TZOFFSETTO:-0300
TZNAME:ADT
DTSTART:20230312T060000
END:DAYLIGHT
BEGIN:STANDARD
TZOFFSETFROM:-0300
TZOFFSETTO:-0400
TZNAME:AST
DTSTART:20231105T050000
END:STANDARD
BEGIN:DAYLIGHT
TZOFFSETFROM:-0400
TZOFFSETTO:-0300
TZNAME:ADT
DTSTART:20240310T060000
END:DAYLIGHT
BEGIN:STANDARD
TZOFFSETFROM:-0300
TZOFFSETTO:-0400
TZNAME:AST
DTSTART:20241103T050000
END:STANDARD
END:VTIMEZONE
BEGIN:VEVENT
DTSTART;TZID=America/New_York:20240904T170000
DTEND;TZID=America/New_York:20240904T190000
DTSTAMP:20260423T184903
CREATED:20240621T200711Z
LAST-MODIFIED:20240621T200815Z
UID:4023-1725469200-1725476400@zenademocraticschool.org
SUMMARY:Welcome Back Picnic
DESCRIPTION:A welcome back picnic for families at a local park. Brought you by the ZDS Parent Squad!
URL:https://zenademocraticschool.org/event/welcome-back-picnic/
LOCATION:NY
END:VEVENT
BEGIN:VEVENT
DTSTART;TZID=America/New_York:20240819T090000
DTEND;TZID=America/New_York:20240823T170000
DTSTAMP:20260423T184903
CREATED:20240621T200022Z
LAST-MODIFIED:20240621T200022Z
UID:4017-1724058000-1724432400@zenademocraticschool.org
SUMMARY:Curious Jane Camp
DESCRIPTION:For girls entering K-1st\, 2nd-3rd & 4th-6th grades\n9am – 3:30pm\, $450/week + $25 materials fee\nMulti-week discount of $35-off/week\, includes siblings\nRolling Drop-Off from 8:30-9am\nLate-Stay until 5:30pm for $25/day or $100/full-week \nTwo sessions: August 12-16 & August 19-23
URL:https://zenademocraticschool.org/event/curious-jane-camp/
LOCATION:Zena Democratic School\, 84 Zena Road\, Kingston\, NY
END:VEVENT
BEGIN:VEVENT
DTSTART;TZID=America/New_York:20240812T090000
DTEND;TZID=America/New_York:20240816T153000
DTSTAMP:20260423T184903
CREATED:20240621T195618Z
LAST-MODIFIED:20240621T195618Z
UID:4014-1723453200-1723822200@zenademocraticschool.org
SUMMARY:Curious Jane Summer Camp
DESCRIPTION:For girls entering K-1st\, 2nd-3rd & 4th-6th grades\n9am – 3:30pm\, $450/week + $25 materials fee\nMulti-week discount of $35-off/week\, includes siblings\nRolling Drop-Off from 8:30-9am\nLate-Stay until 5:30pm for $25/day or $100/full-week \nTwo sessions: August 12-16 & August 19-23
URL:https://zenademocraticschool.org/event/curious-jane-summer-camp-3/
LOCATION:Zena Democratic School\, 84 Zena Road\, Kingston\, NY
END:VEVENT
BEGIN:VEVENT
DTSTART;TZID=America/New_York:20240805T090000
DTEND;TZID=America/New_York:20240809T150000
DTSTAMP:20260423T184903
CREATED:20240621T200337Z
LAST-MODIFIED:20240621T200409Z
UID:4021-1722848400-1723215600@zenademocraticschool.org
SUMMARY:Wayfinder Experience Camp Week 2
DESCRIPTION:Week 1 July 29th-August 2nd \nWeek 2 August 5th-9th \nAges 8+ \nCost: $525. Early reg. $500
URL:https://zenademocraticschool.org/event/wayfinder-experience-camp-week-2/
LOCATION:Zena Democratic School\, 84 Zena Road\, Kingston\, NY
END:VEVENT
BEGIN:VEVENT
DTSTART;TZID=America/New_York:20240729T090000
DTEND;TZID=America/New_York:20240802T150000
DTSTAMP:20260423T184903
CREATED:20240621T200201Z
LAST-MODIFIED:20240621T200212Z
UID:4019-1722243600-1722610800@zenademocraticschool.org
SUMMARY:Wayfinder Experience Camp Week 1
DESCRIPTION:Week 1 July 29th-August 2nd \nWeek 2 August 5th-9th \nAges 8+ \nCost: $525. Early reg. $500
URL:https://zenademocraticschool.org/event/wayfinder-experience-camp-week-1/
LOCATION:Zena Democratic School\, 84 Zena Road\, Kingston\, NY
END:VEVENT
BEGIN:VEVENT
DTSTART;VALUE=DATE:20240614
DTEND;VALUE=DATE:20240615
DTSTAMP:20260423T184903
CREATED:20230728T025806Z
LAST-MODIFIED:20230728T025806Z
UID:3681-1718323200-1718409599@zenademocraticschool.org
SUMMARY:Last Day of School
DESCRIPTION:That’s a wrap!
URL:https://zenademocraticschool.org/event/last-day-of-school-5/
LOCATION:NY
CATEGORIES:Academic Calendar
END:VEVENT
BEGIN:VEVENT
DTSTART;TZID=America/New_York:20240608T170000
DTEND;TZID=America/New_York:20240608T220000
DTSTAMP:20260423T184903
CREATED:20230728T025728Z
LAST-MODIFIED:20240208T191704Z
UID:3679-1717866000-1717884000@zenademocraticschool.org
SUMMARY:Graduation Picnic
DESCRIPTION:ZDS Graduation Ceremony and End of Year Picnic open to ZDS families and friends
URL:https://zenademocraticschool.org/event/graduation-picnic-2/
LOCATION:Zena Democratic School\, 84 Zena Road\, Kingston\, NY
END:VEVENT
BEGIN:VEVENT
DTSTART;VALUE=DATE:20240527
DTEND;VALUE=DATE:20240528
DTSTAMP:20260423T184903
CREATED:20230728T025606Z
LAST-MODIFIED:20230728T025606Z
UID:3677-1716768000-1716854399@zenademocraticschool.org
SUMMARY:Memorial Day - School Closed
DESCRIPTION:Memorial Day – School Closed
URL:https://zenademocraticschool.org/event/memorial-day-school-closed/
LOCATION:NY
CATEGORIES:Holiday
END:VEVENT
BEGIN:VEVENT
DTSTART;TZID=America/New_York:20240524T100000
DTEND;TZID=America/New_York:20240524T160000
DTSTAMP:20260423T184903
CREATED:20240503T213030Z
LAST-MODIFIED:20240503T213113Z
UID:3979-1716544800-1716566400@zenademocraticschool.org
SUMMARY:Playground Build Days
DESCRIPTION:Help us maintain and add to our beloved playground. \n 
URL:https://zenademocraticschool.org/event/playground-build-days-4/
LOCATION:Zena Democratic School\, 84 Zena Road\, Kingston\, NY
END:VEVENT
BEGIN:VEVENT
DTSTART;TZID=America/New_York:20240523T100000
DTEND;TZID=America/New_York:20240523T160000
DTSTAMP:20260423T184903
CREATED:20240503T212942Z
LAST-MODIFIED:20240503T212942Z
UID:3977-1716458400-1716480000@zenademocraticschool.org
SUMMARY:Playground Build Days
DESCRIPTION:Help us maintain and add to our beloved playground. 
URL:https://zenademocraticschool.org/event/playground-build-days-3/
LOCATION:Zena Democratic School\, 84 Zena Road\, Kingston\, NY
END:VEVENT
BEGIN:VEVENT
DTSTART;TZID=America/Halifax:20240523T090000
DTEND;TZID=America/Halifax:20240523T100000
DTSTAMP:20260423T184903
CREATED:20240503T213226Z
LAST-MODIFIED:20240503T213226Z
UID:3981-1716454800-1716458400@zenademocraticschool.org
SUMMARY:Parent Coffee House
DESCRIPTION:Parent Coffee House is a place to get to know and support to each other.
URL:https://zenademocraticschool.org/event/parent-coffee-house-5/
LOCATION:Zena Democratic School\, 84 Zena Road\, Kingston\, NY
END:VEVENT
BEGIN:VEVENT
DTSTART;TZID=America/New_York:20240518T130000
DTEND;TZID=America/New_York:20240518T160000
DTSTAMP:20260423T184903
CREATED:20230728T025337Z
LAST-MODIFIED:20240208T191730Z
UID:3673-1716037200-1716048000@zenademocraticschool.org
SUMMARY:Open House
DESCRIPTION:ZDS Open Houses are the best way to learn more about the school. Students\, parents\, alumni\, and staff members will be in attendance to give tours of the campus\, discuss the school\, and answer questions. Panel discussion at 2:00pm.
URL:https://zenademocraticschool.org/event/open-house-17/
LOCATION:Zena Democratic School\, 84 Zena Road\, Kingston\, NY
CATEGORIES:Open House
END:VEVENT
BEGIN:VEVENT
DTSTART;VALUE=DATE:20240501
DTEND;VALUE=DATE:20240502
DTSTAMP:20260423T184903
CREATED:20230728T025208Z
LAST-MODIFIED:20230728T025208Z
UID:3671-1714521600-1714607999@zenademocraticschool.org
SUMMARY:Staff Day - School Closed
DESCRIPTION:School is closed for students
URL:https://zenademocraticschool.org/event/staff-day-school-closed/
LOCATION:NY
CATEGORIES:Academic Calendar
END:VEVENT
BEGIN:VEVENT
DTSTART;TZID=America/New_York:20240425T090000
DTEND;TZID=America/New_York:20240425T100000
DTSTAMP:20260423T184903
CREATED:20240208T193414Z
LAST-MODIFIED:20240213T213702Z
UID:3918-1714035600-1714039200@zenademocraticschool.org
SUMMARY:Parent Coffee House
DESCRIPTION:Currently enrolled parents are welcome to join us for coffee\, refreshments and a conversation about life as a ZDS parent. 
URL:https://zenademocraticschool.org/event/parent-coffee-house-3/
LOCATION:Zena Democratic School\, 84 Zena Road\, Kingston\, NY
END:VEVENT
BEGIN:VEVENT
DTSTART;TZID=America/New_York:20240420T130000
DTEND;TZID=America/New_York:20240420T160000
DTSTAMP:20260423T184903
CREATED:20230728T025102Z
LAST-MODIFIED:20240208T191543Z
UID:3669-1713618000-1713628800@zenademocraticschool.org
SUMMARY:Open House
DESCRIPTION:ZDS Open Houses are the best way to learn more about the school. Students\, parents\, alumni\, and staff members will be in attendance to give tours of the campus\, discuss the school\, and answer questions. Panel discussion at 2:00pm.
URL:https://zenademocraticschool.org/event/open-house-16/
LOCATION:Zena Democratic School\, 84 Zena Road\, Kingston\, NY
CATEGORIES:Open House
END:VEVENT
BEGIN:VEVENT
DTSTART;VALUE=DATE:20240325
DTEND;VALUE=DATE:20240402
DTSTAMP:20260423T184903
CREATED:20230728T025014Z
LAST-MODIFIED:20230728T025014Z
UID:3667-1711324800-1712015999@zenademocraticschool.org
SUMMARY:Spring Break - No School
DESCRIPTION:Spring Break – No School
URL:https://zenademocraticschool.org/event/spring-break-no-school/
LOCATION:NY
CATEGORIES:Holiday
END:VEVENT
BEGIN:VEVENT
DTSTART;TZID=America/Halifax:20240321T090000
DTEND;TZID=America/Halifax:20240321T100000
DTSTAMP:20260423T184903
CREATED:20240208T193343Z
LAST-MODIFIED:20240208T193343Z
UID:3916-1711011600-1711015200@zenademocraticschool.org
SUMMARY:Parent Coffee House
DESCRIPTION:Currently enrolled parents are welcome to join us for coffee\, refreshments and a conversation about life as a ZDS parent. 
URL:https://zenademocraticschool.org/event/parent-coffee-house-2/
LOCATION:Zena Democratic School\, 84 Zena Road\, Kingston\, NY
END:VEVENT
BEGIN:VEVENT
DTSTART;TZID=America/New_York:20240302T130000
DTEND;TZID=America/New_York:20240302T160000
DTSTAMP:20260423T184903
CREATED:20230728T024927Z
LAST-MODIFIED:20240208T191454Z
UID:3665-1709384400-1709395200@zenademocraticschool.org
SUMMARY:Open House
DESCRIPTION:ZDS Open Houses are the best way to learn more about the school. Students\, parents\, alumni\, and staff members will be in attendance to give tours of the campus\, discuss the school\, and answer questions. Panel discussion at 2:00pm.
URL:https://zenademocraticschool.org/event/open-house-15/
LOCATION:Zena Democratic School\, 84 Zena Road\, Kingston\, NY
CATEGORIES:Open House
END:VEVENT
BEGIN:VEVENT
DTSTART;TZID=America/New_York:20240229T090000
DTEND;TZID=America/New_York:20240229T100000
DTSTAMP:20260423T184903
CREATED:20240208T193308Z
LAST-MODIFIED:20240208T193308Z
UID:3914-1709197200-1709200800@zenademocraticschool.org
SUMMARY:Parent Coffee House
DESCRIPTION:Currently enrolled parents are welcome to join us for coffee\, refreshments and a conversation about life as a ZDS parent. 
URL:https://zenademocraticschool.org/event/parent-coffee-house/
LOCATION:Zena Democratic School\, 84 Zena Road\, Kingston\, NY
END:VEVENT
BEGIN:VEVENT
DTSTART;TZID=America/Halifax:20240227T190000
DTEND;TZID=America/Halifax:20240227T210000
DTSTAMP:20260423T184903
CREATED:20240213T214042Z
LAST-MODIFIED:20240213T214042Z
UID:3931-1709060400-1709067600@zenademocraticschool.org
SUMMARY:20 Years of Self-Directed Stories
DESCRIPTION:Alumni from our 20 years will share stories and answer questions during this series of panels during the late winter and spring of 2024
URL:https://zenademocraticschool.org/event/20-years-of-self-directed-stories/
LOCATION:NY
END:VEVENT
BEGIN:VEVENT
DTSTART;VALUE=DATE:20240219
DTEND;VALUE=DATE:20240224
DTSTAMP:20260423T184903
CREATED:20230728T024831Z
LAST-MODIFIED:20230728T024831Z
UID:3663-1708300800-1708732799@zenademocraticschool.org
SUMMARY:February Break - No School
DESCRIPTION:February Break – No School
URL:https://zenademocraticschool.org/event/february-break-no-school/
LOCATION:NY
CATEGORIES:Holiday
END:VEVENT
BEGIN:VEVENT
DTSTART;TZID=America/New_York:20240216T180000
DTEND;TZID=America/New_York:20240216T210000
DTSTAMP:20260423T184903
CREATED:20230728T024727Z
LAST-MODIFIED:20240208T191406Z
UID:3661-1708106400-1708117200@zenademocraticschool.org
SUMMARY:Valentine's Ball
DESCRIPTION:A free and fancy dance party for students\, staff & their families and friends.
URL:https://zenademocraticschool.org/event/valentines-ball-4/
LOCATION:The Local\, 16 John St\, Saugerties\, New York\, 12477
END:VEVENT
BEGIN:VEVENT
DTSTART;TZID=America/Halifax:20240205T190000
DTEND;TZID=America/Halifax:20240205T210000
DTSTAMP:20260423T184903
CREATED:20230728T025514Z
LAST-MODIFIED:20230728T025514Z
UID:3675-1707159600-1707166800@zenademocraticschool.org
SUMMARY:Annual Assembly Meeting
DESCRIPTION:Meeting of the ZDS Assembly (parents\, students\, and staff) to make democratic decisions about the school.
URL:https://zenademocraticschool.org/event/annual-assembly-meeting-2/
LOCATION:Hudson Valley Sudbury School\, 84 Zena Road\, Kingston\, NY
CATEGORIES:Academic Calendar
END:VEVENT
BEGIN:VEVENT
DTSTART;VALUE=DATE:20240115
DTEND;VALUE=DATE:20240116
DTSTAMP:20260423T184903
CREATED:20230728T024354Z
LAST-MODIFIED:20230728T024354Z
UID:3659-1705276800-1705363199@zenademocraticschool.org
SUMMARY:MLK Jr. Day - School Closed
DESCRIPTION:MLK Jr. Day – School Closed
URL:https://zenademocraticschool.org/event/mlk-jr-day-school-closed/
LOCATION:NY
CATEGORIES:Holiday
END:VEVENT
BEGIN:VEVENT
DTSTART;VALUE=DATE:20231222
DTEND;VALUE=DATE:20240104
DTSTAMP:20260423T184903
CREATED:20230728T024155Z
LAST-MODIFIED:20230728T024155Z
UID:3657-1703203200-1704326399@zenademocraticschool.org
SUMMARY:Winter Break - School Closed
DESCRIPTION:Winter Break – School Closed
URL:https://zenademocraticschool.org/event/winter-break-school-closed/
LOCATION:NY
CATEGORIES:Holiday
END:VEVENT
BEGIN:VEVENT
DTSTART;VALUE=DATE:20231122
DTEND;VALUE=DATE:20231125
DTSTAMP:20260423T184903
CREATED:20230728T024036Z
LAST-MODIFIED:20230728T024036Z
UID:3655-1700611200-1700870399@zenademocraticschool.org
SUMMARY:Thanksgiving Break - No School
DESCRIPTION:Thanksgiving Break – No School
URL:https://zenademocraticschool.org/event/thanksgiving-break-no-school/
LOCATION:NY
CATEGORIES:Holiday
END:VEVENT
BEGIN:VEVENT
DTSTART;VALUE=DATE:20231110
DTEND;VALUE=DATE:20231111
DTSTAMP:20260423T184903
CREATED:20230728T023935Z
LAST-MODIFIED:20230728T023935Z
UID:3653-1699574400-1699660799@zenademocraticschool.org
SUMMARY:Veteran's Day - School Closed
DESCRIPTION:Veteran’s Day – School Closed
URL:https://zenademocraticschool.org/event/veterans-day-school-closed/
LOCATION:NY
CATEGORIES:Holiday
END:VEVENT
BEGIN:VEVENT
DTSTART;VALUE=DATE:20231107
DTEND;VALUE=DATE:20231108
DTSTAMP:20260423T184903
CREATED:20230728T023815Z
LAST-MODIFIED:20230728T023815Z
UID:3651-1699315200-1699401599@zenademocraticschool.org
SUMMARY:Election Day - School Closed
DESCRIPTION:Election Day – School Closed
URL:https://zenademocraticschool.org/event/election-day-school-closed/
LOCATION:NY
CATEGORIES:Holiday
END:VEVENT
BEGIN:VEVENT
DTSTART;TZID=America/Halifax:20231026T170000
DTEND;TZID=America/Halifax:20231026T200000
DTSTAMP:20260423T184903
CREATED:20231018T192048Z
LAST-MODIFIED:20231018T192048Z
UID:3833-1698339600-1698350400@zenademocraticschool.org
SUMMARY:Spookfest
DESCRIPTION:Spookfest: A Halloween Carnival\nThursday\, October 26th 5-8pm (rain date October 27th)\n \nThe cohort will be offering a free spaghetti dinner\, carnival games made by the cohort\, slime making\, not so spooky stories by the fire\, and a very haunted trail. Costumes are welcome but certainly not required. \n \nBrought to you by ZDS Cohort E
URL:https://zenademocraticschool.org/event/spookfest/
LOCATION:Hudson Valley Sudbury School\, 84 Zena Road\, Kingston\, NY
END:VEVENT
BEGIN:VEVENT
DTSTART;TZID=America/Halifax:20231021T130000
DTEND;TZID=America/Halifax:20231021T160000
DTSTAMP:20260423T184903
CREATED:20230728T023720Z
LAST-MODIFIED:20230728T023720Z
UID:3649-1697893200-1697904000@zenademocraticschool.org
SUMMARY:Open House
DESCRIPTION:HVSS Open Houses are the best way to learn more about the school. Students\, parents\, alumni\, and staff members will be in attendance to give tours of the campus\, discuss the school\, and answer questions. Panel discussion at 2:00pm.
URL:https://zenademocraticschool.org/event/open-house-14/
LOCATION:Hudson Valley Sudbury School\, 84 Zena Road\, Kingston\, NY
CATEGORIES:Open House
END:VEVENT
END:VCALENDAR