BEGIN:VCALENDAR
VERSION:2.0
PRODID:-//Zena Democratic School - ECPv6.15.3//NONSGML v1.0//EN
CALSCALE:GREGORIAN
METHOD:PUBLISH
X-ORIGINAL-URL:https://zenademocraticschool.org
X-WR-CALDESC:Events for Zena Democratic School
REFRESH-INTERVAL;VALUE=DURATION:PT1H
X-Robots-Tag:noindex
X-PUBLISHED-TTL:PT1H
BEGIN:VTIMEZONE
TZID:America/New_York
BEGIN:DAYLIGHT
TZOFFSETFROM:-0500
TZOFFSETTO:-0400
TZNAME:EDT
DTSTART:20240310T070000
END:DAYLIGHT
BEGIN:STANDARD
TZOFFSETFROM:-0400
TZOFFSETTO:-0500
TZNAME:EST
DTSTART:20241103T060000
END:STANDARD
END:VTIMEZONE
BEGIN:VEVENT
DTSTART;TZID=America/New_York:20240904T170000
DTEND;TZID=America/New_York:20240904T190000
DTSTAMP:20260425T211831
CREATED:20240621T200711Z
LAST-MODIFIED:20240621T200815Z
UID:4023-1725469200-1725476400@zenademocraticschool.org
SUMMARY:Welcome Back Picnic
DESCRIPTION:A welcome back picnic for families at a local park. Brought you by the ZDS Parent Squad!
URL:https://zenademocraticschool.org/event/welcome-back-picnic/
LOCATION:NY
END:VEVENT
BEGIN:VEVENT
DTSTART;TZID=America/New_York:20240909T083000
DTEND;TZID=America/New_York:20240909T163000
DTSTAMP:20260425T211831
CREATED:20240621T200909Z
LAST-MODIFIED:20240621T201107Z
UID:4025-1725870600-1725899400@zenademocraticschool.org
SUMMARY:First Day of School
DESCRIPTION:First Day of School!
URL:https://zenademocraticschool.org/event/first-day-of-school-5/
LOCATION:NY
END:VEVENT
BEGIN:VEVENT
DTSTART;TZID=America/New_York:20240913T160000
DTEND;TZID=America/New_York:20240913T180000
DTSTAMP:20260425T211831
CREATED:20240621T204511Z
LAST-MODIFIED:20240622T022510Z
UID:4030-1726243200-1726250400@zenademocraticschool.org
SUMMARY:Ice Cream Social
DESCRIPTION:Families are invited to join us for fun with new and old friends & lots of ice cream!
URL:https://zenademocraticschool.org/event/ice-cream-social-3/
LOCATION:Zena Democratic School\, 84 Zena Road\, Kingston\, NY
END:VEVENT
BEGIN:VEVENT
DTSTART;TZID=America/New_York:20240921T130000
DTEND;TZID=America/New_York:20240921T160000
DTSTAMP:20260425T211831
CREATED:20240622T022733Z
LAST-MODIFIED:20240622T022733Z
UID:4032-1726923600-1726934400@zenademocraticschool.org
SUMMARY:Open House
DESCRIPTION:ZDS Open Houses are the best way to learn more about the school. Students\, parents\, alumni\, and staff members will be in attendance to give tours of the campus\, discuss the school\, and answer questions. Panel discussion at 2:00pm. \nReservations can be made on the Open House Event Page
URL:https://zenademocraticschool.org/event/open-house-18/
LOCATION:Zena Democratic School\, 84 Zena Road\, Kingston\, NY
CATEGORIES:Open House
END:VEVENT
BEGIN:VEVENT
DTSTART;TZID=America/New_York:20240927T170000
DTEND;TZID=America/New_York:20240927T200000
DTSTAMP:20260425T211831
CREATED:20240622T023413Z
LAST-MODIFIED:20240622T023440Z
UID:4042-1727456400-1727467200@zenademocraticschool.org
SUMMARY:Fall Potluck
DESCRIPTION:A family friendly event for feasting\, gathering around the campfire\, and enjoying eachothers company!
URL:https://zenademocraticschool.org/event/fall-potluck-4/
LOCATION:Zena Democratic School\, 84 Zena Road\, Kingston\, NY
END:VEVENT
END:VCALENDAR