BEGIN:VCALENDAR
VERSION:2.0
PRODID:-//Zena Democratic School - ECPv6.15.3//NONSGML v1.0//EN
CALSCALE:GREGORIAN
METHOD:PUBLISH
X-ORIGINAL-URL:https://zenademocraticschool.org
X-WR-CALDESC:Events for Zena Democratic School
REFRESH-INTERVAL;VALUE=DURATION:PT1H
X-Robots-Tag:noindex
X-PUBLISHED-TTL:PT1H
BEGIN:VTIMEZONE
TZID:America/Halifax
BEGIN:DAYLIGHT
TZOFFSETFROM:-0400
TZOFFSETTO:-0300
TZNAME:ADT
DTSTART:20240310T060000
END:DAYLIGHT
BEGIN:STANDARD
TZOFFSETFROM:-0300
TZOFFSETTO:-0400
TZNAME:AST
DTSTART:20241103T050000
END:STANDARD
END:VTIMEZONE
BEGIN:VTIMEZONE
TZID:America/New_York
BEGIN:DAYLIGHT
TZOFFSETFROM:-0500
TZOFFSETTO:-0400
TZNAME:EDT
DTSTART:20240310T070000
END:DAYLIGHT
BEGIN:STANDARD
TZOFFSETFROM:-0400
TZOFFSETTO:-0500
TZNAME:EST
DTSTART:20241103T060000
END:STANDARD
END:VTIMEZONE
BEGIN:VEVENT
DTSTART;VALUE=DATE:20241105
DTEND;VALUE=DATE:20241106
DTSTAMP:20260425T184050
CREATED:20240622T024500Z
LAST-MODIFIED:20240622T024500Z
UID:4050-1730764800-1730851199@zenademocraticschool.org
SUMMARY:No School - Election Day
DESCRIPTION:No School – Election Day
URL:https://zenademocraticschool.org/event/no-school-election-day/
LOCATION:NY
END:VEVENT
BEGIN:VEVENT
DTSTART;VALUE=DATE:20241111
DTEND;VALUE=DATE:20241112
DTSTAMP:20260425T184050
CREATED:20240622T024533Z
LAST-MODIFIED:20240622T024533Z
UID:4052-1731283200-1731369599@zenademocraticschool.org
SUMMARY:No School - Veteran's Day
DESCRIPTION:No School – Veteran’s Day
URL:https://zenademocraticschool.org/event/no-school-veterans-day/
LOCATION:NY
END:VEVENT
BEGIN:VEVENT
DTSTART;VALUE=DATE:20241127
DTEND;VALUE=DATE:20241130
DTSTAMP:20260425T184050
CREATED:20240622T024615Z
LAST-MODIFIED:20240622T024622Z
UID:4054-1732665600-1732924799@zenademocraticschool.org
SUMMARY:No School - Thanksgiving Break
DESCRIPTION:No School – Thanksgiving Break
URL:https://zenademocraticschool.org/event/no-school-thanksgiving-break/
LOCATION:NY
CATEGORIES:Holiday
END:VEVENT
END:VCALENDAR